BEGIN:VCALENDAR
VERSION:2.0
PRODID:-//TOP Step Consulting - ECPv6.13.2.1//NONSGML v1.0//EN
CALSCALE:GREGORIAN
METHOD:PUBLISH
X-ORIGINAL-URL:http://staging.topstepconsulting.com
X-WR-CALDESC:Events for TOP Step Consulting
REFRESH-INTERVAL;VALUE=DURATION:PT1H
X-Robots-Tag:noindex
X-PUBLISHED-TTL:PT1H
BEGIN:VTIMEZONE
TZID:America/Chicago
BEGIN:DAYLIGHT
TZOFFSETFROM:-0600
TZOFFSETTO:-0500
TZNAME:CDT
DTSTART:20170312T080000
END:DAYLIGHT
BEGIN:STANDARD
TZOFFSETFROM:-0500
TZOFFSETTO:-0600
TZNAME:CST
DTSTART:20171105T070000
END:STANDARD
END:VTIMEZONE
BEGIN:VTIMEZONE
TZID:America/New_York
BEGIN:DAYLIGHT
TZOFFSETFROM:-0500
TZOFFSETTO:-0400
TZNAME:EDT
DTSTART:20170312T070000
END:DAYLIGHT
BEGIN:STANDARD
TZOFFSETFROM:-0400
TZOFFSETTO:-0500
TZNAME:EST
DTSTART:20171105T060000
END:STANDARD
END:VTIMEZONE
BEGIN:VTIMEZONE
TZID:America/Denver
BEGIN:DAYLIGHT
TZOFFSETFROM:-0700
TZOFFSETTO:-0600
TZNAME:MDT
DTSTART:20170312T090000
END:DAYLIGHT
BEGIN:STANDARD
TZOFFSETFROM:-0600
TZOFFSETTO:-0700
TZNAME:MST
DTSTART:20171105T080000
END:STANDARD
END:VTIMEZONE
BEGIN:VEVENT
DTSTART;TZID=America/Chicago:20170825T110000
DTEND;TZID=America/Chicago:20170825T140000
DTSTAMP:20260424T010343
CREATED:20161221T171911Z
LAST-MODIFIED:20170808T125422Z
UID:10506-1503658800-1503669600@staging.topstepconsulting.com
SUMMARY:Minneapolis/St. Paul OpenAir User Group
DESCRIPTION:Join us for lunch and an interactive meeting to learn more best practices and tips for NetSuite OpenAir!\nThe purpose is to bring together NetSuite OpenAir users to exchange ideas about efficient system usage and share best practices with others. \n \nThe Session:\n\nLunch and introductions\nBest practices presentation\nBest Practices sharing and interactive discussion with attendees\n\nLocation:\nTBD \nREGISTER NOW!
URL:http://staging.topstepconsulting.com/event/minneapolisst-paul-openair-user-group/
CATEGORIES:OpenAir,OpenAir User Group
ATTACH;FMTTYPE=image/jpeg:http://staging.topstepconsulting.com/wp-content/uploads/Minneapolis.jpg
END:VEVENT
BEGIN:VEVENT
DTSTART;TZID=America/New_York:20170824T130000
DTEND;TZID=America/New_York:20170824T133000
DTSTAMP:20260424T010343
CREATED:20170601T142350Z
LAST-MODIFIED:20170811T000540Z
UID:19272-1503579600-1503581400@staging.topstepconsulting.com
SUMMARY:Tips For How To Get A More Accurate Revenue Forecast In NetSuite OpenAir
DESCRIPTION:Date: Thursday\, August 10\, 2017 \nRescheduled: Thursday\, August 24\, 2017 \nTime: 1:00 – 1:30pm EDT \nIn this webinar we will discuss:  \n\nTips and tricks on how to get a more accurate forecast\nHow to reflect weighted forecast values based on your sales methodology\nForecast resource needs along with financials\n\nFollowing the webinar\, we will keep the lines open for 15 minutes for open discussion and Q&A. \nREGISTER NOW
URL:http://staging.topstepconsulting.com/event/tips-get-accurate-revenue-forecast-netsuite-openair/
CATEGORIES:OpenAir,OpenAir Webinar
ATTACH;FMTTYPE=image/jpeg:http://staging.topstepconsulting.com/wp-content/uploads/Webinar-OA-Event-Icon.jpg
END:VEVENT
BEGIN:VEVENT
DTSTART;TZID=America/New_York:20170817T130000
DTEND;TZID=America/New_York:20170817T133000
DTSTAMP:20260424T010343
CREATED:20170601T142735Z
LAST-MODIFIED:20170601T142735Z
UID:19274-1502974800-1502976600@staging.topstepconsulting.com
SUMMARY:Tips For FinancialForce Revenue Management To Improve Visibility For Revenue Forecasting
DESCRIPTION:Date: Thursday\, August 17\, 2017\nTime: 1:00 – 1:30pm EDT \nIn this webinar\, we will discuss revenue forecasting approaches and reporting including using dashboards to view by line of business\, customer or region. \nFollowing the webinar\, we will keep the lines open for 15 minutes for open discussion and Q&A.\n \nREGISTER NOW
URL:http://staging.topstepconsulting.com/event/tips-financialforce-revenue-management-improve-visibility-revenue-forecasting/
CATEGORIES:FinancialForce,FinancialForce Webinar
ATTACH;FMTTYPE=image/jpeg:http://staging.topstepconsulting.com/wp-content/uploads/Webinar-FF-Event-Icon.jpg
END:VEVENT
BEGIN:VEVENT
DTSTART;TZID=America/New_York:20170803T130000
DTEND;TZID=America/New_York:20170803T133000
DTSTAMP:20260424T010343
CREATED:20170601T141950Z
LAST-MODIFIED:20170601T141950Z
UID:19269-1501765200-1501767000@staging.topstepconsulting.com
SUMMARY:Pros and Cons of Revenue Forecasting Approaches for Professional Services Organizations
DESCRIPTION:Date: Thursday\, August 3\, 2017\nTime: 1:00 – 1:30pm EDT \nRevenue Forecasting is an art and a science.  Good forecasting isn’t just a benefit to the back office. Reliable forecasts make it possible to understand the utilization\, margin and billings and overall project health.   In this webinar\, we will discuss the pros and cons of forecasting approaches.  \nFollowing the webinar\, we will keep the lines open for 15 minutes for open discussion and Q&A. \n  \nREGISTER NOW
URL:http://staging.topstepconsulting.com/event/pros-cons-revenue-forecasting-approaches-professional-services-organizations/
CATEGORIES:FinancialForce,FinancialForce Webinar,OpenAir,OpenAir Webinar
ATTACH;FMTTYPE=image/jpeg:http://staging.topstepconsulting.com/wp-content/uploads/Webinar-PSA-Event-Icon.jpg
END:VEVENT
BEGIN:VEVENT
DTSTART;TZID=America/New_York:20170721T073000
DTEND;TZID=America/New_York:20170721T103000
DTSTAMP:20260424T010343
CREATED:20161221T171306Z
LAST-MODIFIED:20170418T173716Z
UID:10505-1500622200-1500633000@staging.topstepconsulting.com
SUMMARY:Boston OpenAir User Group
DESCRIPTION:Join us for breakfast and an interactive meeting to learn more best practices and tips for NetSuite OpenAir!\nThe purpose is to bring together NetSuite OpenAir users to exchange ideas about efficient system usage and share best practices with others. \nThe Session:\n\nBreakfast and introductions\nBest practices presentation\nBest Practices sharing and interactive discussion with attendees\n\nLocation:\nKronos Incorporated\nCross Point Tower 1\n900 ​Chelmsford Street\nLowell\, MA \nREGISTER NOW!
URL:http://staging.topstepconsulting.com/event/boston-openair-user-group-2-2/
CATEGORIES:OpenAir,OpenAir User Group
ATTACH;FMTTYPE=image/jpeg:http://staging.topstepconsulting.com/wp-content/uploads/2015/12/boston_opt.jpg
END:VEVENT
BEGIN:VEVENT
DTSTART;TZID=America/New_York:20170720T130000
DTEND;TZID=America/New_York:20170720T133000
DTSTAMP:20260424T010343
CREATED:20170524T140159Z
LAST-MODIFIED:20170524T140306Z
UID:19244-1500555600-1500557400@staging.topstepconsulting.com
SUMMARY:Techniques for Resource Management in FinancialForce PSA
DESCRIPTION:Date: Thursday\, July 20\, 2017\nTime: 1:00 – 1:30pm EDT \nIn this webinar we will discuss how to manage your resources in FinancialForce PSA including:  \n\nscheduling strategies and how/when to use them \nhow to monitor and measure utilization and capacity \ndata entry and maintenance tips\n\nFollowing the webinar\, we will keep the lines open for 15 minutes for open discussion and Q&A. \nREGISTER NOW
URL:http://staging.topstepconsulting.com/event/techniques-resource-management-financialforce-psa/
CATEGORIES:FinancialForce,FinancialForce Webinar
ATTACH;FMTTYPE=image/jpeg:http://staging.topstepconsulting.com/wp-content/uploads/Webinar-FF-Event-Icon.jpg
END:VEVENT
BEGIN:VEVENT
DTSTART;TZID=America/New_York:20170713T130000
DTEND;TZID=America/New_York:20170713T133000
DTSTAMP:20260424T010343
CREATED:20170524T135735Z
LAST-MODIFIED:20170524T140503Z
UID:19242-1499950800-1499952600@staging.topstepconsulting.com
SUMMARY:Resource Management Techniques in NetSuite OpenAir
DESCRIPTION:Date: Thursday\, July 13\, 2017\nTime: 1:00 – 1:30pm EDT \nIn this webinar you will learn more about resource management in OpenAir including:  \n\nbookings vs. task assignments\ndata entry and maintenance tips\nand a variety of visual dashboards\, features\, and reports for at a glance information\n\nFollowing the webinar\, we will keep the lines open for 15 minutes for open discussion and Q&A. \nREGISTER NOW
URL:http://staging.topstepconsulting.com/event/resource-management-techniques-netsuite-openair/
CATEGORIES:OpenAir,OpenAir Webinar
ATTACH;FMTTYPE=image/jpeg:http://staging.topstepconsulting.com/wp-content/uploads/Webinar-OA-Event-Icon.jpg
END:VEVENT
BEGIN:VEVENT
DTSTART;TZID=America/New_York:20170706T130000
DTEND;TZID=America/New_York:20170706T133000
DTSTAMP:20260424T010343
CREATED:20170524T135028Z
LAST-MODIFIED:20170524T140355Z
UID:19235-1499346000-1499347800@staging.topstepconsulting.com
SUMMARY:The Importance of Resource Management Strategies in Professional Services
DESCRIPTION:Date: Thursday\, July 6\, 2017\nTime: 1:00 – 1:30pm EDT \nIn this webinar we will discuss strategies for successful team management including:  \n\nplanning resource needs\, \nforecasting skill types\, \ncommunicating schedules to staff\, \nmeasuring key resource management metrics\n\nFollowing the webinar\, we will keep the lines open for 15 minutes for open discussion and Q&A. \nREGISTER NOW
URL:http://staging.topstepconsulting.com/event/importance-resource-management-strategies-professional-services/
CATEGORIES:FinancialForce,FinancialForce Webinar,OpenAir,OpenAir Webinar
ATTACH;FMTTYPE=image/jpeg:http://staging.topstepconsulting.com/wp-content/uploads/Webinar-PSA-Event-Icon.jpg
END:VEVENT
BEGIN:VEVENT
DTSTART;TZID=America/New_York:20170619T080000
DTEND;TZID=America/New_York:20170621T170000
DTSTAMP:20260424T010343
CREATED:20170504T131701Z
LAST-MODIFIED:20170504T181100Z
UID:19195-1497859200-1498064400@staging.topstepconsulting.com
SUMMARY:FinancialForce Community Live Vegas
DESCRIPTION:June 19-21\nLas Vegas\, Caesars Palace \n3 days of educational sessions and networking with the FinancialForce user community.  TOP Step Consulting is proud to be a Gold Sponsor! \nTo learn more:  https://communitylive.financialforce.com/lasvegas-home/
URL:http://staging.topstepconsulting.com/event/community-live-vegas/
CATEGORIES:Conference,FinancialForce
END:VEVENT
BEGIN:VEVENT
DTSTART;TZID=America/Denver:20170616T090000
DTEND;TZID=America/Denver:20170616T110000
DTSTAMP:20260424T010343
CREATED:20161221T170703Z
LAST-MODIFIED:20170501T153941Z
UID:10502-1497603600-1497610800@staging.topstepconsulting.com
SUMMARY:Denver OpenAir User Group
DESCRIPTION:Join us for breakfast and an interactive meeting to learn more best practices and tips for NetSuite OpenAir!\nThe purpose is to bring together NetSuite OpenAir users to exchange ideas about efficient system usage and share best practices with others. \nThe Session:\n\nBreakfast and introductions\nBest practices presentation\nBest Practices sharing and interactive discussion with attendees\n\nLocation:\nSyncroness\n10875 Dover St #500\nWestminster\, CO 80021 \n  \nREGISTER NOW!
URL:http://staging.topstepconsulting.com/event/denver-openair-user-group-2-2/
CATEGORIES:OpenAir,OpenAir User Group
ATTACH;FMTTYPE=image/jpeg:http://staging.topstepconsulting.com/wp-content/uploads/2015/12/denver_opt.jpg
END:VEVENT
BEGIN:VEVENT
DTSTART;TZID=America/New_York:20170615T130000
DTEND;TZID=America/New_York:20170615T133000
DTSTAMP:20260424T010343
CREATED:20170412T150137Z
LAST-MODIFIED:20170501T162446Z
UID:18776-1497531600-1497533400@staging.topstepconsulting.com
SUMMARY:Developing DataFlows for FinancialForce PSA
DESCRIPTION:Date: Thursday\, June 15\, 2017\nTime: 1:00 – 1:30pm EDT \nExplore common and useful workflows achievable by the force.com platform behind FinancialForce PSA \nFollowing the webinar\, we will keep the lines open for 15 minutes for open discussion and Q&A. \n  \nREGISTER NOW
URL:http://staging.topstepconsulting.com/event/developing-dataflows-financialforce-psa/
CATEGORIES:FinancialForce,FinancialForce Webinar
ATTACH;FMTTYPE=image/jpeg:http://staging.topstepconsulting.com/wp-content/uploads/Webinar-FF-Event-Icon.jpg
END:VEVENT
BEGIN:VEVENT
DTSTART;TZID=America/New_York:20170615T113000
DTEND;TZID=America/New_York:20170615T143000
DTSTAMP:20260424T010343
CREATED:20170523T204009Z
LAST-MODIFIED:20170523T204038Z
UID:19232-1497526200-1497537000@staging.topstepconsulting.com
SUMMARY:FinancialForce PSA User Group Meeting
DESCRIPTION:June 15 @ 11:30am – 2:30pm ET\nThe Bancroft\n15 3rd Avenue\nBurlington\, MA 01803 \nEmail jcicci@staging.topstepconsulting.com or jrutter@staging.topstepconsulting.com if you are interested in attending.
URL:http://staging.topstepconsulting.com/event/financialforce-psa-user-group-meeting/
LOCATION:The Bancroft\, 15 3rd Ave\, Burlington\, MA\, 1803\, United States
CATEGORIES:FinancialForce,FinancialForce User Gropu
END:VEVENT
BEGIN:VEVENT
DTSTART;TZID=America/New_York:20170608T130000
DTEND;TZID=America/New_York:20170608T133000
DTSTAMP:20260424T010343
CREATED:20170412T150305Z
LAST-MODIFIED:20170501T154645Z
UID:18778-1496926800-1496928600@staging.topstepconsulting.com
SUMMARY:Developing DataFlows For NetSuite OpenAir Integration
DESCRIPTION:Date: Thursday\, June 8\, 2017\nTime: 1:00 – 1:30pm EDT \nExplore the common integration challenges using OpenAir and how to address them with: \n\nConcur\nNetSuite\nQuickBooks\n\nFollowing the webinar\, we will keep the lines open for 15 minutes for open discussion and Q&A. \n  \nREGISTER NOW
URL:http://staging.topstepconsulting.com/event/developing-dataflows-netsuite-openair-integration/
CATEGORIES:OpenAir,OpenAir Webinar
ATTACH;FMTTYPE=image/jpeg:http://staging.topstepconsulting.com/wp-content/uploads/Webinar-OA-Event-Icon.jpg
END:VEVENT
BEGIN:VEVENT
DTSTART;TZID=America/New_York:20170601T130000
DTEND;TZID=America/New_York:20170601T133000
DTSTAMP:20260424T010343
CREATED:20170412T150532Z
LAST-MODIFIED:20170501T162354Z
UID:18780-1496322000-1496323800@staging.topstepconsulting.com
SUMMARY:Who is the Master?  Overcoming PSA System Integration DataFlow Challenges
DESCRIPTION:Date: Thursday\, June 1\, 2017\nTime: 1:00 – 1:30pm EDT \nConnecting systems and platforms involves not only a data mapping and translation understanding\, it involves an understanding of data ownership. Tune into this presentation to learn about common data masters and data synchronization challenges when building out your PSA solution. \nFollowing the webinar\, we will keep the lines open for 15 minutes for open discussion and Q&A. \n  \nREGISTER NOW
URL:http://staging.topstepconsulting.com/event/master-overcoming-psa-system-integration-dataflow-challenges/
CATEGORIES:FinancialForce,FinancialForce Webinar,OpenAir,OpenAir Webinar
ATTACH;FMTTYPE=image/jpeg:http://staging.topstepconsulting.com/wp-content/uploads/Webinar-PSA-Event-Icon.jpg
END:VEVENT
BEGIN:VEVENT
DTSTART;TZID=America/New_York:20170518T130000
DTEND;TZID=America/New_York:20170518T133000
DTSTAMP:20260424T010343
CREATED:20170412T150702Z
LAST-MODIFIED:20170501T162541Z
UID:18782-1495112400-1495114200@staging.topstepconsulting.com
SUMMARY:Using Data Extracts To Support System Integration In FinancialForce PSA
DESCRIPTION:Date: Thursday\, May 18\, 2017\nTime: 1:00 – 1:30pm EDT \nFinancialForce PSA provides robust data extracts to support system integrations. Tune into this presentation to explore tips on integrating billing events with an ERP solution and more! \nFollowing the webinar\, we will keep the lines open for 15 minutes for open discussion and Q&A. \n  \nREGISTER NOW
URL:http://staging.topstepconsulting.com/event/using-data-extracts-support-system-integration-financialforce-psa/
CATEGORIES:FinancialForce,FinancialForce Webinar
ATTACH;FMTTYPE=image/jpeg:http://staging.topstepconsulting.com/wp-content/uploads/Webinar-FF-Event-Icon.jpg
END:VEVENT
BEGIN:VEVENT
DTSTART;TZID=America/New_York:20170517T080000
DTEND;TZID=America/New_York:20170518T170000
DTSTAMP:20260424T010343
CREATED:20170504T131627Z
LAST-MODIFIED:20170504T180929Z
UID:19193-1495008000-1495126800@staging.topstepconsulting.com
SUMMARY:FinancialForce Community Live UK
DESCRIPTION:May 17-18\nLondon @ The Crystal \n2 days of educational sessions and networking with the FinancialForce user community. \nTo learn more:  https://communitylive.financialforce.com/london-home/
URL:http://staging.topstepconsulting.com/event/community-live-uk/
CATEGORIES:Conference,FinancialForce
END:VEVENT
BEGIN:VEVENT
DTSTART;TZID=America/Chicago:20170512T090000
DTEND;TZID=America/Chicago:20170512T110000
DTSTAMP:20260424T010343
CREATED:20161221T170418Z
LAST-MODIFIED:20170503T004923Z
UID:10501-1494579600-1494586800@staging.topstepconsulting.com
SUMMARY:Chicago OpenAir User Group
DESCRIPTION:Join us for brunch and an interactive meeting to learn more best practices and tips for NetSuite OpenAir!\nThe purpose is to bring together NetSuite OpenAir users to exchange ideas about efficient system usage and share best practices with others. \nThe Session:\n\nBrunch and introductions\nBest practices presentation\nBest Practices sharing and interactive discussion with attendees\n\nLocation:\nVSA Partners\n600 W.Chicago Ave.\, Suite 250\nChicago\, IL 60654 \n  \nREGISTER NOW!
URL:http://staging.topstepconsulting.com/event/chicago-openair-user-group-3-2/
CATEGORIES:OpenAir,OpenAir User Group
ATTACH;FMTTYPE=image/jpeg:http://staging.topstepconsulting.com/wp-content/uploads/2015/12/chicago_opt.jpg
END:VEVENT
BEGIN:VEVENT
DTSTART;TZID=America/New_York:20170511T130000
DTEND;TZID=America/New_York:20170511T133000
DTSTAMP:20260424T010343
CREATED:20170412T150846Z
LAST-MODIFIED:20170501T154742Z
UID:18784-1494507600-1494509400@staging.topstepconsulting.com
SUMMARY:Tips For Integrating Your NetSuite OpenAir Using Dell Boomi
DESCRIPTION:Date: Thursday\, May 11\, 2017\nTime: 1:00 – 1:30pm EDT \nIn this tool focused presentation\, learn tips and tricks for NetSuite OpenAir using Dell Boomi integrations including: \n\nData translations\nMaintenance tips\nError handling considerations. \n\nFollowing the webinar\, we will keep the lines open for 15 minutes for open discussion and Q&A. \n  \nREGISTER NOW
URL:http://staging.topstepconsulting.com/event/tips-integrating-netsuite-openair-using-dell-boomi/
CATEGORIES:OpenAir,OpenAir Webinar
ATTACH;FMTTYPE=image/jpeg:http://staging.topstepconsulting.com/wp-content/uploads/Webinar-OA-Event-Icon.jpg
END:VEVENT
BEGIN:VEVENT
DTSTART;TZID=America/New_York:20170504T130000
DTEND;TZID=America/New_York:20170504T133000
DTSTAMP:20260424T010343
CREATED:20170412T151134Z
LAST-MODIFIED:20170501T162259Z
UID:18786-1493902800-1493904600@staging.topstepconsulting.com
SUMMARY:Batch vs Real-time Technologies For Your PSA System
DESCRIPTION:Date: Thursday\, May 4\, 2017\nTime: 1:00 – 1:30pm EDT \nIntegration is about connecting systems for data consistency and automation. Tune into this presentation to learn about integration techniques for your PSA system. We will discuss: \n\nReal-time integration\nBatch integration\nMulti-system integrations\n\nFollowing the webinar\, we will keep the lines open for 15 minutes for open discussion and Q&A. \n  \nREGISTER NOW
URL:http://staging.topstepconsulting.com/event/batch-vs-real-time-technologies-psa-system/
CATEGORIES:FinancialForce,FinancialForce Webinar,OpenAir,OpenAir Webinar
ATTACH;FMTTYPE=image/jpeg:http://staging.topstepconsulting.com/wp-content/uploads/Webinar-PSA-Event-Icon.jpg
END:VEVENT
BEGIN:VEVENT
DTSTART;TZID=America/New_York:20170501T080000
DTEND;TZID=America/New_York:20170503T170000
DTSTAMP:20260424T010343
CREATED:20170504T131555Z
LAST-MODIFIED:20170504T180606Z
UID:19191-1493625600-1493830800@staging.topstepconsulting.com
SUMMARY:TSW Spring
DESCRIPTION:May 1-3\, 2017\nSan Diego\, Hilton Bayfront \nLearn how to rethink your offers\, delivery processes\, and organizational structure to maximize your success.  TOP Step Consulting is excited to be a sponsor.  Look for us on the Expo Floor. \nTo Learn more: http://www.technologyservicesworld.com/
URL:http://staging.topstepconsulting.com/event/tsw/
CATEGORIES:Conference
END:VEVENT
BEGIN:VEVENT
DTSTART;TZID=America/New_York:20170424T080000
DTEND;TZID=America/New_York:20170427T170000
DTSTAMP:20260424T010343
CREATED:20170504T131521Z
LAST-MODIFIED:20170504T180413Z
UID:19189-1493020800-1493312400@staging.topstepconsulting.com
SUMMARY:SuiteWorld17
DESCRIPTION:April 24-27\, 2017\nLas Vegas – Sands Expo \nAnnual gathering of NetSuite users\, partners and developers. \nTOP Step Consulting is proud to be a Gold Sponsor. Look for us on the expo floor! \nTo learn more: http://www.netsuitesuiteworld.com/
URL:http://staging.topstepconsulting.com/event/suiteworld17/
CATEGORIES:Conference,OpenAir
END:VEVENT
BEGIN:VEVENT
DTSTART;TZID=America/New_York:20170420T130000
DTEND;TZID=America/New_York:20170420T133000
DTSTAMP:20260424T010343
CREATED:20170308T150606Z
LAST-MODIFIED:20170308T155127Z
UID:18464-1492693200-1492695000@staging.topstepconsulting.com
SUMMARY:Learn How You Can Expand The Boundaries Of Your FinancialForce PSA System
DESCRIPTION:Date: Thursday\, April 20\, 2017 \nTime: 1:00 – 1:30pm EDT \n  \n FinancialForce PSA’s configurable platform provides the ability to extend functionality with a variety of tools and coding options.  Tune into this 30-minute presentation to explore valuable solutions TOP Step has completed with other FinancialForce PSA customers. \n  \nREGISTER NOW
URL:http://staging.topstepconsulting.com/event/learn-can-expand-boundaries-financialforce-psa-system/
CATEGORIES:FinancialForce,FinancialForce Webinar
ATTACH;FMTTYPE=image/jpeg:http://staging.topstepconsulting.com/wp-content/uploads/Webinar-FF-Event-Icon.jpg
END:VEVENT
BEGIN:VEVENT
DTSTART;TZID=America/New_York:20170413T130000
DTEND;TZID=America/New_York:20170413T133000
DTSTAMP:20260424T010343
CREATED:20170308T145720Z
LAST-MODIFIED:20170308T155104Z
UID:18461-1492088400-1492090200@staging.topstepconsulting.com
SUMMARY:Learn How You Can Expand The Boundaries Of Your OpenAir System
DESCRIPTION:Date: Thursday\, April 13\, 2017 \nTime: 1:00 – 1:30pm EDT \n NetSuite OpenAir’s configurable platform provides the ability to extend functionality with java scripting options.  Tune into this 30-minute presentation to learn what interesting and powerful solutions TOP Step has provided to customers to help productivity and compliance. \n  \nREGISTER NOW
URL:http://staging.topstepconsulting.com/event/learn-can-expand-boundaries-openair-system/
CATEGORIES:OpenAir,OpenAir Webinar
ATTACH;FMTTYPE=image/jpeg:http://staging.topstepconsulting.com/wp-content/uploads/Webinar-OA-Event-Icon.jpg
END:VEVENT
BEGIN:VEVENT
DTSTART;TZID=America/New_York:20170406T130000
DTEND;TZID=America/New_York:20170406T133000
DTSTAMP:20260424T010343
CREATED:20170308T145025Z
LAST-MODIFIED:20170308T155042Z
UID:18453-1491483600-1491485400@staging.topstepconsulting.com
SUMMARY:Learn The Benefits Of Extending The Boundaries Of Your PSA System
DESCRIPTION:Date: Thursday\, April 6\, 2017\nTime: 1:00 – 1:30pm EDT \nA PSA may not handle all of your needs ‘out of the box’ according to your policies.  Tune into this 30-minute webinar to learn about typical extensions that can be accomplished within PSA platforms. \n\nKeep users informed / reminders\nAutomate and validate data entry\nEnforce policy compliance\n\nREGISTER NOW
URL:http://staging.topstepconsulting.com/event/learn-benefits-extending-boundaries-psa-system/
CATEGORIES:FinancialForce,FinancialForce Webinar,OpenAir,OpenAir Webinar
ATTACH;FMTTYPE=image/jpeg:http://staging.topstepconsulting.com/wp-content/uploads/Webinar-PSA-Event-Icon.jpg
END:VEVENT
BEGIN:VEVENT
DTSTART;TZID=America/New_York:20170324T110000
DTEND;TZID=America/New_York:20170324T140000
DTSTAMP:20260424T010343
CREATED:20161221T165949Z
LAST-MODIFIED:20170302T195500Z
UID:10500-1490353200-1490364000@staging.topstepconsulting.com
SUMMARY:Atlanta OpenAir User Group
DESCRIPTION:Join us for lunch and an interactive meeting to learn more best practices and tips for NetSuite OpenAir!\nThe purpose is to bring together NetSuite OpenAir users to exchange ideas about efficient system usage and share best practices with others. \nThe Session:\n\nLunch and introductions\nBest practices presentation\nBest Practices sharing and interactive discussion with attendees\n\nLocation:\nRocket Software\n3340 Peachtree Road\, N.E.\nSuite 2750\nAtlanta\, GA 30326 \n  \nREGISTER NOW!
URL:http://staging.topstepconsulting.com/event/atlanta-openair-user-group-3-2/
CATEGORIES:OpenAir,OpenAir User Group
ATTACH;FMTTYPE=image/jpeg:http://staging.topstepconsulting.com/wp-content/uploads/2015/12/atlanta_opt.jpg
END:VEVENT
BEGIN:VEVENT
DTSTART;TZID=America/New_York:20170316T130000
DTEND;TZID=America/New_York:20170316T133000
DTSTAMP:20260424T010343
CREATED:20161220T213733Z
LAST-MODIFIED:20170316T135814Z
UID:10477-1489669200-1489671000@staging.topstepconsulting.com
SUMMARY:FinancialForce PSA Auditing Techniques to Keep your Data Clean
DESCRIPTION:Date: Thursday\, March 16\, 2017\nTime: 1:00 – 1:30pm EDT \nIn this 30 minute webinar we will discuss auditing techniques for keeping your FinancialForce PSA data clean: \n\nCommon and recommended data audits\nChecks and balances\n\nFollowing the webinar we will keep the lines open for 15 minutes for open discussion and Q&A. \n  \nREGISTER NOW
URL:http://staging.topstepconsulting.com/event/financialforce-psa-auditing-techniques-keep-data-clean/
CATEGORIES:FinancialForce,FinancialForce Webinar
ATTACH;FMTTYPE=image/jpeg:http://staging.topstepconsulting.com/wp-content/uploads/Webinar-FF-Event-Icon.jpg
END:VEVENT
BEGIN:VEVENT
DTSTART;TZID=America/New_York:20170309T130000
DTEND;TZID=America/New_York:20170309T133000
DTSTAMP:20260424T010343
CREATED:20170309T173509Z
LAST-MODIFIED:20170309T203544Z
UID:10476-1489064400-1489066200@staging.topstepconsulting.com
SUMMARY:NetSuite OpenAir Auditing Techniques to Keep your Data Clean
DESCRIPTION:Date: Thursday\, March 9\, 2017\nTime: 1:00 – 1:30pm EST \nIn this 30 minute webinar we will discuss auditing techniques for keeping your NetSuite OpenAir data clean:  \n\nCommon and recommended data audits\nChecks and balances
URL:http://staging.topstepconsulting.com/event/netsuite-openair-auditing-techniques-keep-data-clean/
CATEGORIES:OpenAir,OpenAir Webinar
ATTACH;FMTTYPE=image/jpeg:http://staging.topstepconsulting.com/wp-content/uploads/Webinar-OA-Event-Icon.jpg
END:VEVENT
BEGIN:VEVENT
DTSTART;TZID=America/New_York:20170302T130000
DTEND;TZID=America/New_York:20170302T133000
DTSTAMP:20260424T010343
CREATED:20161220T212915Z
LAST-MODIFIED:20170220T131812Z
UID:10475-1488459600-1488461400@staging.topstepconsulting.com
SUMMARY:Best Practices to Auditing PSA Data
DESCRIPTION:Date: Thursday\, March 2\, 2017\nTime: 1:00 – 1:30pm EST \nIn this 30 minute webinar we will discuss best practices to auditing PSA data. \n\nHow audits support business processes\nTypes of data to audit\nFrequency and ownership\n\nFollowing the webinar we will keep the lines open for 15 minutes for open discussion and Q&A. \nREGISTER NOW!
URL:http://staging.topstepconsulting.com/event/best-practices-auditing-psa-data/
CATEGORIES:FinancialForce,FinancialForce Webinar,OpenAir,OpenAir Webinar
END:VEVENT
BEGIN:VEVENT
DTSTART;TZID=America/New_York:20170216T130000
DTEND;TZID=America/New_York:20170216T133000
DTSTAMP:20260424T010343
CREATED:20161220T212200Z
LAST-MODIFIED:20170206T022841Z
UID:10845-1487250000-1487251800@staging.topstepconsulting.com
SUMMARY:Self Service Dashboards in FinancialForce PSA
DESCRIPTION:Date: Thursday\, February 16\, 2017\nTime: 1:00 – 1:30pm EST \nIn this 30 minute webinar we will discuss self-service dashboards in NetSuite OpenAir.  \n\nCommon Self Service dashboards\nDependencies and controls\n\nFollowing the webinar we will keep the lines open for 15 minutes for open discussion and Q&A. \nREGISTER NOW!
URL:http://staging.topstepconsulting.com/event/self-service-dashboards-financialforce-psa/
CATEGORIES:FinancialForce,FinancialForce Webinar
END:VEVENT
BEGIN:VEVENT
DTSTART;TZID=America/Chicago:20170216T073000
DTEND;TZID=America/Chicago:20170216T103000
DTSTAMP:20260424T010343
CREATED:20161221T165209Z
LAST-MODIFIED:20170208T002135Z
UID:10499-1487230200-1487241000@staging.topstepconsulting.com
SUMMARY:Dallas OpenAir User Group
DESCRIPTION:Join us for breakfast and an interactive meeting to learn more best practices and tips for NetSuite OpenAir!\nThe purpose is to bring together NetSuite OpenAir users to exchange ideas about efficient system usage and share best practices with others. \nThe Session:\n\nBreakfast and introductions\nBest practices presentation\nBest Practices sharing and interactive discussion with attendees\n\nLocation:\nTBD \nAll attendees will be entered into our “Thank you” drawing for a gift card. It is just our way of saying we appreciate the opportunity to share and learn from each other.\nREGISTER NOW!
URL:http://staging.topstepconsulting.com/event/dallas-openair-user-group-2-2/
CATEGORIES:OpenAir,OpenAir User Group
ATTACH;FMTTYPE=image/jpeg:http://staging.topstepconsulting.com/wp-content/uploads/2015/12/dallas_opt.jpg
END:VEVENT
END:VCALENDAR