BEGIN:VCALENDAR
VERSION:2.0
PRODID:-//TOP Step Consulting - ECPv6.13.2.1//NONSGML v1.0//EN
CALSCALE:GREGORIAN
METHOD:PUBLISH
X-ORIGINAL-URL:http://staging.topstepconsulting.com
X-WR-CALDESC:Events for TOP Step Consulting
REFRESH-INTERVAL;VALUE=DURATION:PT1H
X-Robots-Tag:noindex
X-PUBLISHED-TTL:PT1H
BEGIN:VTIMEZONE
TZID:America/New_York
BEGIN:DAYLIGHT
TZOFFSETFROM:-0500
TZOFFSETTO:-0400
TZNAME:EDT
DTSTART:20160313T070000
END:DAYLIGHT
BEGIN:STANDARD
TZOFFSETFROM:-0400
TZOFFSETTO:-0500
TZNAME:EST
DTSTART:20161106T060000
END:STANDARD
BEGIN:DAYLIGHT
TZOFFSETFROM:-0500
TZOFFSETTO:-0400
TZNAME:EDT
DTSTART:20170312T070000
END:DAYLIGHT
BEGIN:STANDARD
TZOFFSETFROM:-0400
TZOFFSETTO:-0500
TZNAME:EST
DTSTART:20171105T060000
END:STANDARD
END:VTIMEZONE
BEGIN:VTIMEZONE
TZID:America/Los_Angeles
BEGIN:DAYLIGHT
TZOFFSETFROM:-0800
TZOFFSETTO:-0700
TZNAME:PDT
DTSTART:20160313T100000
END:DAYLIGHT
BEGIN:STANDARD
TZOFFSETFROM:-0700
TZOFFSETTO:-0800
TZNAME:PST
DTSTART:20161106T090000
END:STANDARD
END:VTIMEZONE
BEGIN:VEVENT
DTSTART;TZID=America/New_York:20170209T130000
DTEND;TZID=America/New_York:20170209T133000
DTSTAMP:20260424T093904
CREATED:20161220T211959Z
LAST-MODIFIED:20170206T022851Z
UID:10472-1486645200-1486647000@staging.topstepconsulting.com
SUMMARY:Self Service Dashboards in NetSuite OpenAir
DESCRIPTION:Date: Thursday\, February 9\, 2017\nTime: 1:00 – 1:30pm EST \nIn this 30 minute webinar we will discuss self-service dashboards in NetSuite OpenAir.  \n\nCommon Self Service dashboards\nDependencies and controls\n\nFollowing the webinar we will keep the lines open for 15 minutes for open discussion and Q&A. \nREGISTER NOW!
URL:http://staging.topstepconsulting.com/event/self-service-dashboards-netsuite-openair/
CATEGORIES:OpenAir,OpenAir Webinar
END:VEVENT
BEGIN:VEVENT
DTSTART;TZID=America/New_York:20170202T130000
DTEND;TZID=America/New_York:20170202T133000
DTSTAMP:20260424T093904
CREATED:20161220T211124Z
LAST-MODIFIED:20170206T022927Z
UID:10844-1486040400-1486042200@staging.topstepconsulting.com
SUMMARY:Empower your PSA Users with Self-Service
DESCRIPTION:Date: Thursday\, February 2\, 2017\nTime: 1:00 – 1:30pm EST \nIn this 30 minute webinar we will discuss ways to empower your PSA users with self-service.  \n\nIdeas for self-service items\nHow self-service impacts adoption\nDependencies and controls\n\nFollowing the webinar we will keep the lines open for 15 minutes for open discussion and Q&A. \nREGISTER NOW!
URL:http://staging.topstepconsulting.com/event/empower-psa-users-self-service/
CATEGORIES:FinancialForce,FinancialForce Webinar,OpenAir,OpenAir Webinar
END:VEVENT
BEGIN:VEVENT
DTSTART;TZID=America/New_York:20170126T130000
DTEND;TZID=America/New_York:20170126T133000
DTSTAMP:20260424T093904
CREATED:20161220T210824Z
LAST-MODIFIED:20161220T210824Z
UID:10843-1485435600-1485437400@staging.topstepconsulting.com
SUMMARY:Scalable Maintenance Practices with FinancialForce PSA
DESCRIPTION:Date: Thursday\, January 26\, 2017\nTime: 1:00 – 1:30pm EST \nIn this 30 minute webinar we will discuss scalable maintenance practices with FinancialForce PSA: \n\nDo’s and Don’ts for customizations\nApproaches to minimize configuration maintenance\nReport maintenance suggestions\n\nFollowing the webinar we will keep the lines open for 15 minutes for open discussion and Q&A. \nREGISTER NOW!
URL:http://staging.topstepconsulting.com/event/scalable-maintenance-practices-financialforce-psa/
CATEGORIES:FinancialForce,FinancialForce Webinar
END:VEVENT
BEGIN:VEVENT
DTSTART;TZID=America/New_York:20170119T130000
DTEND;TZID=America/New_York:20170119T133000
DTSTAMP:20260424T093904
CREATED:20161220T210612Z
LAST-MODIFIED:20161220T210612Z
UID:10468-1484830800-1484832600@staging.topstepconsulting.com
SUMMARY:Scalable Maintenance Practices With NetSuite OpenAir
DESCRIPTION:Date: Thursday\, January 19\, 2017\nTime: 1:00 – 1:30pm EST \nIn this 30 minute webinar we will discuss scalable maintenance practices with NetSuite OpenAir: \n\nTips for approval workflows\nReport maintenance suggestions\nApproaches to minimize configuration maintenance (roles\, filter sets\, etc.)\n\nFollowing the webinar we will keep the lines open for 15 minutes for open discussion and Q&A. \nREGISTER NOW!
URL:http://staging.topstepconsulting.com/event/scalable-maintenance-practices-netsuite-openair/
CATEGORIES:OpenAir,OpenAir Webinar
END:VEVENT
BEGIN:VEVENT
DTSTART;TZID=America/New_York:20170112T130000
DTEND;TZID=America/New_York:20170112T133000
DTSTAMP:20260424T093904
CREATED:20161220T210251Z
LAST-MODIFIED:20161220T210251Z
UID:10842-1484226000-1484227800@staging.topstepconsulting.com
SUMMARY:Keys to Building a Scalable PSA System
DESCRIPTION:Date: Thursday\, January 12\, 2017\nTime: 1:00 – 1:30pm EST \nIn this 30 minute webinar we will discuss best practices for building a scalable PSA system: \n\nHow to plan for growth and change\nHow business mergers and acquisitions can be accommodated\nWhen customization is beneficial vs. limiting\n\nFollowing the webinar we will keep the lines open for 15 minutes for open discussion and Q&A. \nREGISTER NOW!
URL:http://staging.topstepconsulting.com/event/keys-building-scalable-psa-system/
CATEGORIES:FinancialForce,FinancialForce Webinar,OpenAir,OpenAir Webinar
END:VEVENT
BEGIN:VEVENT
DTSTART;TZID=America/New_York:20161215T130000
DTEND;TZID=America/New_York:20161215T133000
DTSTAMP:20260424T093904
CREATED:20160614T163945Z
LAST-MODIFIED:20160614T163945Z
UID:10051-1481806800-1481808600@staging.topstepconsulting.com
SUMMARY:FinancialForce for Project Management Oversight
DESCRIPTION:Date: Thursday\, December 15\, 2016\nTime: 1:00 – 1:30pm EST \nIn this session you will learn: \n\nEstablishing templates\nDefining permissions and controls\nSetting up alerts\, notifications\, and regular reports for communication\n\nREGISTER NOW!
URL:http://staging.topstepconsulting.com/event/financialforce-project-management-oversight/
CATEGORIES:FinancialForce,FinancialForce Webinar
ATTACH;FMTTYPE=image/jpeg:http://staging.topstepconsulting.com/wp-content/uploads/2016/06/Webinar-FF-Event-Icon.jpg
END:VEVENT
BEGIN:VEVENT
DTSTART;TZID=America/New_York:20161215T130000
DTEND;TZID=America/New_York:20161215T133000
DTSTAMP:20260424T093904
CREATED:20160614T163711Z
LAST-MODIFIED:20160614T163711Z
UID:10837-1481806800-1481808600@staging.topstepconsulting.com
SUMMARY:FinancialForce for Project Management Oversight
DESCRIPTION:Date: Thursday\, December 15\, 2016\nTime: 1:00 – 1:30pm EST \nIn this session you will learn: \n\nEstablishing templates\nDefining permissions and controls\nSetting up alerts\, notifications\, and regular reports for communication\n\nREGISTER NOW!
URL:http://staging.topstepconsulting.com/event/financialforce-project-management-oversight-2/
CATEGORIES:FinancialForce,FinancialForce Webinar
ATTACH;FMTTYPE=:
END:VEVENT
BEGIN:VEVENT
DTSTART;TZID=America/New_York:20161208T130000
DTEND;TZID=America/New_York:20161208T133000
DTSTAMP:20260424T093904
CREATED:20160614T163545Z
LAST-MODIFIED:20160614T163545Z
UID:10050-1481202000-1481203800@staging.topstepconsulting.com
SUMMARY:OpenAir for Project Management Oversight
DESCRIPTION:Date: Thursday\, December 8\, 2016\nTime: 1:00 – 1:30pm EST \nIn this session you will learn: \n\nEstablishing templates\nDefining permissions and controls\nSetting up alerts\, notifications\, and regular reports for communication\n\nREGISTER NOW!
URL:http://staging.topstepconsulting.com/event/openair-project-management-oversight/
CATEGORIES:OpenAir,OpenAir Webinar
ATTACH;FMTTYPE=image/jpeg:http://staging.topstepconsulting.com/wp-content/uploads/2016/06/Webinar-OA-Event-Icon.jpg
END:VEVENT
BEGIN:VEVENT
DTSTART;TZID=America/New_York:20161208T130000
DTEND;TZID=America/New_York:20161208T133000
DTSTAMP:20260424T093904
CREATED:20160614T163505Z
LAST-MODIFIED:20160614T163505Z
UID:10836-1481202000-1481203800@staging.topstepconsulting.com
SUMMARY:OpenAir for Project Management Oversight
DESCRIPTION:Date: Thursday\, December 8\, 2016\nTime: 1:00 – 1:30pm EST \nIn this session you will learn: \n\nEstablishing templates\nDefining permissions and controls\nSetting up alerts\, notifications\, and regular reports for communication\n\nREGISTER NOW!
URL:http://staging.topstepconsulting.com/event/openair-project-management-oversight-2/
CATEGORIES:OpenAir,OpenAir Webinar
ATTACH;FMTTYPE=:
END:VEVENT
BEGIN:VEVENT
DTSTART;TZID=America/New_York:20161201T130000
DTEND;TZID=America/New_York:20161201T133000
DTSTAMP:20260424T093904
CREATED:20160614T162644Z
LAST-MODIFIED:20160614T162644Z
UID:10835-1480597200-1480599000@staging.topstepconsulting.com
SUMMARY:Project Management Oversight and the Need for a Project Management Office (PMO)
DESCRIPTION:Date: Thursday\, December 1\, 2016\nTime: 1:00 – 1:30pm EST \nIn this session you will learn: \n\nBenefits of establishing a PMO\nTypes of methodologies for PMOs and staffing needs\nDo you need a PMO and\, if so\, which one?\n\nREGISTER NOW!
URL:http://staging.topstepconsulting.com/event/project-management-oversight-need-project-management-office-pmo-2/
CATEGORIES:FinancialForce,FinancialForce Webinar,OpenAir,OpenAir Webinar
ATTACH;FMTTYPE=image/jpeg:http://staging.topstepconsulting.com/wp-content/uploads/2016/07/webinar-subcontractor-management-2.jpg
END:VEVENT
BEGIN:VEVENT
DTSTART;TZID=America/New_York:20161201T130000
DTEND;TZID=America/New_York:20161201T133000
DTSTAMP:20260424T093904
CREATED:20160614T162547Z
LAST-MODIFIED:20160614T162547Z
UID:10049-1480597200-1480599000@staging.topstepconsulting.com
SUMMARY:Project Management Oversight and the Need for a Project Management Office (PMO)
DESCRIPTION:Date: Thursday\, December 1\, 2016\nTime: 1:00 – 1:30pm EST \nIn this session you will learn: \n\nBenefits of establishing a PMO\nTypes of methodologies for PMOs and staffing needs\nDo you need a PMO and\, if so\, which one?\n\nREGISTER NOW!
URL:http://staging.topstepconsulting.com/event/project-management-oversight-need-project-management-office-pmo/
CATEGORIES:FinancialForce,FinancialForce Webinar,OpenAir,OpenAir Webinar
ATTACH;FMTTYPE=image/jpeg:http://staging.topstepconsulting.com/wp-content/uploads/2016/06/Webinar-PSA-Event-Icon.jpg
END:VEVENT
BEGIN:VEVENT
DTSTART;TZID=America/New_York:20161117T130000
DTEND;TZID=America/New_York:20161117T133000
DTSTAMP:20260424T093904
CREATED:20160614T164924Z
LAST-MODIFIED:20160614T164924Z
UID:10054-1479387600-1479389400@staging.topstepconsulting.com
SUMMARY:Getting Data Out of your FinancialForce PSA to Establish Business Objectives and Measure Against them
DESCRIPTION:Date: Thursday\, November 17\, 2016\nTime: 1:00 – 1:30pm EST \nIn this session you will learn: \n\nCommon reports for PS organization and data dependencies\nEstablishing audits for data monitoring and compliance\nMeasuring objectives regularly in FF through dashboard and reports\n\nREGISTER NOW!
URL:http://staging.topstepconsulting.com/event/getting-data-financialforce-psa-establish-business-objectives-measure/
CATEGORIES:FinancialForce,FinancialForce Webinar
ATTACH;FMTTYPE=image/jpeg:http://staging.topstepconsulting.com/wp-content/uploads/2016/06/Webinar-FF-Event-Icon.jpg
END:VEVENT
BEGIN:VEVENT
DTSTART;TZID=America/New_York:20161117T130000
DTEND;TZID=America/New_York:20161117T133000
DTSTAMP:20260424T093904
CREATED:20160614T164648Z
LAST-MODIFIED:20160614T164648Z
UID:10840-1479387600-1479389400@staging.topstepconsulting.com
SUMMARY:Getting data out of your FinancialForce PSA to Establish Business Objectives and Measure Against them
DESCRIPTION:Date: Thursday\, November 17\, 2016\nTime: 1:00 – 1:30pm EST \nIn this session you will learn: \n\nCommon reports for PS organization and data dependencies\nEstablishing audits for data monitoring and compliance\nMeasuring objectives regularly in FF through dashboard and reports\n\nREGISTER NOW!
URL:http://staging.topstepconsulting.com/event/getting-data-financialforce-psa-establish-business-objectives-measure-2/
CATEGORIES:FinancialForce,FinancialForce Webinar
ATTACH;FMTTYPE=:
END:VEVENT
BEGIN:VEVENT
DTSTART;TZID=America/New_York:20161110T130000
DTEND;TZID=America/New_York:20161110T133000
DTSTAMP:20260424T093904
CREATED:20160614T164628Z
LAST-MODIFIED:20160614T164628Z
UID:10053-1478782800-1478784600@staging.topstepconsulting.com
SUMMARY:Getting Data out of Your OpenAir System to Establish Business Objectives and Measure Against Them
DESCRIPTION:Date: Thursday\, November 10\, 2016\nTime: 1:00 – 1:30pm EST \nIn this session you will learn: \n\nCommon reports for PS organization and data dependencies\nEstablishing audits for data monitoring and compliance\nMeasuring objectives regularly in OA through dashboard and reports\n\nREGISTER NOW!
URL:http://staging.topstepconsulting.com/event/getting-data-openair-system-establish-business-objectives-measure/
CATEGORIES:OpenAir,OpenAir Webinar
ATTACH;FMTTYPE=image/jpeg:http://staging.topstepconsulting.com/wp-content/uploads/2016/06/Webinar-OA-Event-Icon.jpg
END:VEVENT
BEGIN:VEVENT
DTSTART;TZID=America/New_York:20161110T130000
DTEND;TZID=America/New_York:20161110T133000
DTSTAMP:20260424T093904
CREATED:20160614T164356Z
LAST-MODIFIED:20160614T164356Z
UID:10839-1478782800-1478784600@staging.topstepconsulting.com
SUMMARY:Getting Data out of Your OpenAir System to Establish Business Objectives and Measure Against Them
DESCRIPTION:Date: Thursday\, November 10\, 2016\nTime: 1:00 – 1:30pm EST \nIn this session you will learn: \n\nCommon reports for PS organization and data dependencies\nEstablishing audits for data monitoring and compliance\nMeasuring objectives regularly in OA through dashboard and reports\n\nREGISTER NOW!
URL:http://staging.topstepconsulting.com/event/getting-data-openair-system-establish-business-objectives-measure-2/
CATEGORIES:OpenAir,OpenAir Webinar
ATTACH;FMTTYPE=:
END:VEVENT
BEGIN:VEVENT
DTSTART;TZID=America/Los_Angeles:20161104T110000
DTEND;TZID=America/Los_Angeles:20161104T140000
DTSTAMP:20260424T093904
CREATED:20151218T142102Z
LAST-MODIFIED:20151218T142102Z
UID:10799-1478257200-1478268000@staging.topstepconsulting.com
SUMMARY:San Francisco OpenAir User Group
DESCRIPTION:Date: Friday\, November 4\, 2016\nTime: 11am-2pm (PDT)\nFee: $0\nLunch will be served during our meeting. \nCome join us for an interactive meeting to learn more about usage of NetSuite OpenAir!\nMeet with fellow NetSuite OpenAir users to exchange ideas about efficient system usage and share best practices with others. \nWe hope to see you there! \n  \nLocation:\nIntel Security – Santa Clara\n2821 Mission College Blvd\nSanta Clara\, CA 95054\nFifth Floor – Sharp Conference Room
URL:http://staging.topstepconsulting.com/event/san-francisco-openair-user-group-2-2/
LOCATION:Intel Security – Santa Clara\, 2821 Mission College Blvd\, Santa Clara\, CA\,  95054 \, United States
CATEGORIES:OpenAir,OpenAir User Group
ATTACH;FMTTYPE=image/jpeg:http://staging.topstepconsulting.com/wp-content/uploads/2015/12/sanfrancisco_opt.jpg
END:VEVENT
BEGIN:VEVENT
DTSTART;TZID=America/Los_Angeles:20161104T110000
DTEND;TZID=America/Los_Angeles:20161104T140000
DTSTAMP:20260424T093904
CREATED:20151218T142102Z
LAST-MODIFIED:20151218T142102Z
UID:9554-1478257200-1478268000@staging.topstepconsulting.com
SUMMARY:San Francisco OpenAir User Group
DESCRIPTION:Date: Friday\, November 4\, 2016\nTime: 11am-2pm (PDT)\nFee: $0\nLunch will be served during our meeting. \nCome join us for an interactive meeting to learn more about usage of NetSuite OpenAir!\nMeet with fellow NetSuite OpenAir users to exchange ideas about efficient system usage and share best practices with others. \nWe hope to see you there! \n  \nLocation:\nTBD
URL:http://staging.topstepconsulting.com/event/san-francisco-openair-user-group-2/
CATEGORIES:OpenAir,OpenAir User Group
ATTACH;FMTTYPE=image/jpeg:http://staging.topstepconsulting.com/wp-content/uploads/2015/12/sanfrancisco_opt.jpg
END:VEVENT
BEGIN:VEVENT
DTSTART;TZID=America/New_York:20161103T130000
DTEND;TZID=America/New_York:20161103T133000
DTSTAMP:20260424T093904
CREATED:20160614T165247Z
LAST-MODIFIED:20160614T165247Z
UID:10055-1478178000-1478179800@staging.topstepconsulting.com
SUMMARY:Measuring Compliance in Professional Services
DESCRIPTION:Date: Thursday\, November 3\, 2016\nTime: 1:00 – 1:30pm EST \nIn this session you will learn: \n\nStandard compliance measures in PS organizations\nTechniques to ensure compliance\nHow compliance impacts management of your organization\n\nREGISTER NOW!
URL:http://staging.topstepconsulting.com/event/measuring-compliance-professional-services-2/
CATEGORIES:FinancialForce,FinancialForce Webinar,OpenAir,OpenAir Webinar
ATTACH;FMTTYPE=image/jpeg:http://staging.topstepconsulting.com/wp-content/uploads/2016/06/Webinar-PSA-Event-Icon.jpg
END:VEVENT
BEGIN:VEVENT
DTSTART;TZID=America/New_York:20161103T130000
DTEND;TZID=America/New_York:20161103T133000
DTSTAMP:20260424T093904
CREATED:20160614T164016Z
LAST-MODIFIED:20160614T164016Z
UID:10838-1478178000-1478179800@staging.topstepconsulting.com
SUMMARY:Measuring Compliance in Professional Services
DESCRIPTION:Date: Thursday\, November 3\, 2016\nTime: 1:00 – 1:30pm EST \nIn this session you will learn: \n\nStandard compliance measures in PS organizations\nTechniques to ensure compliance\nHow compliance impacts management of your organization\n\nREGISTER NOW!
URL:http://staging.topstepconsulting.com/event/measuring-compliance-professional-services/
CATEGORIES:FinancialForce,FinancialForce Webinar,OpenAir,OpenAir Webinar
ATTACH;FMTTYPE=image/jpeg:http://staging.topstepconsulting.com/wp-content/uploads/2016/07/webinar-subcontractor-management-2.jpg
END:VEVENT
BEGIN:VEVENT
DTSTART;TZID=America/New_York:20161021T140000
DTEND;TZID=America/New_York:20161023T123000
DTSTAMP:20260424T093904
CREATED:20160630T145659Z
LAST-MODIFIED:20160630T145659Z
UID:10194-1477058400-1477225800@staging.topstepconsulting.com
SUMMARY:2016 IMC USA Consulting Conference
DESCRIPTION:Join colleagues from around the world to share ideas\, catch up on exciting new trends and learn how to turn potential into profit. \nThree action packed days to network\, connect\, learn and build your business. \nFrom the opening keynote with Peter Block to the closing with Alan Weiss be prepared to be entertained and educated with our array of speakers.
URL:http://staging.topstepconsulting.com/event/2016-imc-usa-consulting-conference/
LOCATION:Marriott Washington Metro Center\, 775 12th St NW\, Washington\, DC\, DC\,  20005 \, United States
CATEGORIES:Conference,FinancialForce,OpenAir
END:VEVENT
BEGIN:VEVENT
DTSTART;TZID=America/New_York:20161021T140000
DTEND;TZID=America/New_York:20161023T123000
DTSTAMP:20260424T093904
CREATED:20160630T135955Z
LAST-MODIFIED:20160630T135955Z
UID:10232-1477058400-1477225800@staging.topstepconsulting.com
SUMMARY:2016 IMC USA Consulting Conference
DESCRIPTION:Join colleagues from around the world to share ideas\, catch up on exciting new trends and learn how to turn potential into profit. \nThree action packed days to network\, connect\, learn and build your business. \nFrom the opening keynote with Peter Block to the closing with Alan Weiss be prepared to be entertained and educated with our array of speakers.
URL:http://staging.topstepconsulting.com/event/2016-imc-usa-consulting-conference-2/
LOCATION:Marriott Washington Metro Center\, 775 12th St NW\, Washington\, DC\,  20005 \, United States
CATEGORIES:Conference,FinancialForce,OpenAir
END:VEVENT
BEGIN:VEVENT
DTSTART;TZID=America/New_York:20161020T130000
DTEND;TZID=America/New_York:20161020T133000
DTSTAMP:20260424T093904
CREATED:20160614T162507Z
LAST-MODIFIED:20160614T162507Z
UID:10834-1476968400-1476970200@staging.topstepconsulting.com
SUMMARY:FF Best Practices - Introducing Change Into Your Environment
DESCRIPTION:Date: Thursday\, October 20\, 2016\nTime: 1:00 – 1:30pm EDT \nIn this session you will learn: \n\nIntroducing change and change management communication in FinancialForce\nHow to keep historical information intact while addressing changes for now and onwards\nHow to fold new companies into an existing infrastructure\n\nREGISTER NOW!
URL:http://staging.topstepconsulting.com/event/ff-best-practices-introducing-change-environment-2/
CATEGORIES:FinancialForce,FinancialForce Webinar
ATTACH;FMTTYPE=:
END:VEVENT
BEGIN:VEVENT
DTSTART;TZID=America/New_York:20161020T130000
DTEND;TZID=America/New_York:20161020T133000
DTSTAMP:20260424T093904
CREATED:20160614T161904Z
LAST-MODIFIED:20160614T161904Z
UID:10048-1476968400-1476970200@staging.topstepconsulting.com
SUMMARY:FF Best Practices - Introducing Change Into Your Environment
DESCRIPTION:Date: Thursday\, October 20\, 2016\nTime: 1:00 – 1:30pm EDT \nIn this session you will learn: \n\nIntroducing change and change management communication in FinancialForce\nHow to keep historical information intact while addressing changes for now and onwards\nHow to fold new companies into an existing infrastructure\n\nREGISTER NOW!
URL:http://staging.topstepconsulting.com/event/ff-best-practices-introducing-change-environment/
CATEGORIES:FinancialForce,FinancialForce Webinar
ATTACH;FMTTYPE=image/jpeg:http://staging.topstepconsulting.com/wp-content/uploads/2016/06/Webinar-FF-Event-Icon.jpg
END:VEVENT
BEGIN:VEVENT
DTSTART;TZID=America/New_York:20161017T070000
DTEND;TZID=America/New_York:20161019T140000
DTSTAMP:20260424T093904
CREATED:20160630T214518Z
LAST-MODIFIED:20160630T214518Z
UID:10198-1476687600-1476885600@staging.topstepconsulting.com
SUMMARY:2016 Technology Services World
DESCRIPTION:As our industry continues to pivot to the technology-as-a-service (XaaS) models\, some clear patterns are emerging. One the of the most important observations is that success in the cloud requires new and unprecedented levels of alignment and collaboration across corporate functions.  \nThe implications of these changes are profound and far-reaching\, affecting virtually every functional area in tech companies. For leaders looking to win with XaaS offers\, the TSW Las Vegas conference will provide insights around how to plan and execute the critical interlocks required to succeed in the XaaS economy.
URL:http://staging.topstepconsulting.com/event/2016-technology-services-world/
LOCATION:ARIA Resort & Casino\, 3730 S. Las Vegas Blvd.\, Las Vegas\, NV\,  89158 \, United States
CATEGORIES:Conference,FinancialForce,OpenAir
END:VEVENT
BEGIN:VEVENT
DTSTART;TZID=America/New_York:20161017T070000
DTEND;TZID=America/New_York:20161019T140000
DTSTAMP:20260424T093904
CREATED:20160630T214042Z
LAST-MODIFIED:20160630T214042Z
UID:10235-1476687600-1476885600@staging.topstepconsulting.com
SUMMARY:2016 Technology Services World
DESCRIPTION:As our industry continues to pivot to the technology-as-a-service (XaaS) models\, some clear patterns are emerging. One the of the most important observations is that success in the cloud requires new and unprecedented levels of alignment and collaboration across corporate functions.  \nThe implications of these changes are profound and far-reaching\, affecting virtually every functional area in tech companies. For leaders looking to win with XaaS offers\, the TSW Las Vegas conference will provide insights around how to plan and execute the critical interlocks required to succeed in the XaaS economy.
URL:http://staging.topstepconsulting.com/event/2016-technology-services-world-2/
LOCATION:ARIA Resort & Casino\, 3730 S. Las Vegas Blvd.\, Las Vegas\, NV\,  89158 \, United States
CATEGORIES:Conference,FinancialForce,OpenAir
END:VEVENT
BEGIN:VEVENT
DTSTART;TZID=America/New_York:20161013T130000
DTEND;TZID=America/New_York:20161013T133000
DTSTAMP:20260424T093904
CREATED:20160614T165244Z
LAST-MODIFIED:20160614T165244Z
UID:10841-1476363600-1476365400@staging.topstepconsulting.com
SUMMARY:OA Best Practices - Introducing Change into Your Environment
DESCRIPTION:Date: Thursday\, October 13\, 2016\nTime: 1:00 – 1:30pm EDT \nIn this session you will learn: \n\nIntroducing change and change management  communication in OpenAir\nHow to keep historical information intact while addressing changes for now and onwards \nHow to fold new companies into an existing infrastructure\n\nREGISTER NOW!
URL:http://staging.topstepconsulting.com/event/oa-best-practices-introducing-change-environment-2/
CATEGORIES:OpenAir,OpenAir Webinar
ATTACH;FMTTYPE=:
END:VEVENT
BEGIN:VEVENT
DTSTART;TZID=America/New_York:20161013T130000
DTEND;TZID=America/New_York:20161013T133000
DTSTAMP:20260424T093904
CREATED:20160614T160639Z
LAST-MODIFIED:20160614T160639Z
UID:10046-1476363600-1476365400@staging.topstepconsulting.com
SUMMARY:OA Best Practices - Introducing Change into Your Environment
DESCRIPTION:Date: Thursday\, October 13\, 2016\nTime: 1:00 – 1:30pm EDT \nIn this session you will learn: \n\nIntroducing change and change management  communication in OpenAir\nHow to keep historical information intact while addressing changes for now and onwards \nHow to fold new companies into an existing infrastructure\n\nREGISTER NOW!
URL:http://staging.topstepconsulting.com/event/oa-best-practices-introducing-change-environment/
CATEGORIES:OpenAir,OpenAir Webinar
ATTACH;FMTTYPE=image/jpeg:http://staging.topstepconsulting.com/wp-content/uploads/2016/06/Webinar-OA-Event-Icon.jpg
END:VEVENT
BEGIN:VEVENT
DTSTART;TZID=America/New_York:20161012T110000
DTEND;TZID=America/New_York:20161012T140000
DTSTAMP:20260424T093904
CREATED:20151218T141814Z
LAST-MODIFIED:20151218T141814Z
UID:10798-1476270000-1476280800@staging.topstepconsulting.com
SUMMARY:Atlanta OpenAir User Group
DESCRIPTION:Date: Wednesday\, October 12\, 2016\nTime: 11am-2pm (EDT)\nFee: $0\nLunch will be served during our meeting. \nCome join us for an interactive meeting to learn more about usage of NetSuite OpenAir!\nMeet with fellow NetSuite OpenAir users to exchange ideas about efficient system usage and share best practices with others. \nWe hope to see you there! \n  \nLocation:\nTekStream Solutions\n1117 Perimeter Center West\nSuite E400\nAtlanta\, GA 30338
URL:http://staging.topstepconsulting.com/event/atlanta-openair-user-group-2-2/
CATEGORIES:OpenAir,OpenAir User Group
ATTACH;FMTTYPE=image/jpeg:http://staging.topstepconsulting.com/wp-content/uploads/2015/12/atlanta_opt.jpg
END:VEVENT
BEGIN:VEVENT
DTSTART;TZID=America/New_York:20161007T110000
DTEND;TZID=America/New_York:20161007T140000
DTSTAMP:20260424T093904
CREATED:20151218T141814Z
LAST-MODIFIED:20151218T141814Z
UID:9553-1475838000-1475848800@staging.topstepconsulting.com
SUMMARY:Atlanta OpenAir User Group
DESCRIPTION:Date: Friday\, October 7\, 2016\nTime: 11am-2pm (EDT)\nFee: $0\nLunch will be served during our meeting. \nCome join us for an interactive meeting to learn more about usage of NetSuite OpenAir!\nMeet with fellow NetSuite OpenAir users to exchange ideas about efficient system usage and share best practices with others. \nWe hope to see you there! \n  \nLocation:\nTBD
URL:http://staging.topstepconsulting.com/event/atlanta-openair-user-group-2/
CATEGORIES:OpenAir,OpenAir User Group
ATTACH;FMTTYPE=image/jpeg:http://staging.topstepconsulting.com/wp-content/uploads/2015/12/atlanta_opt.jpg
END:VEVENT
BEGIN:VEVENT
DTSTART;TZID=America/New_York:20161006T130000
DTEND;TZID=America/New_York:20161006T133000
DTSTAMP:20260424T093904
CREATED:20160614T155609Z
LAST-MODIFIED:20160614T155609Z
UID:10042-1475758800-1475760600@staging.topstepconsulting.com
SUMMARY:Managing Change in Professional Services
DESCRIPTION:Date: Thursday\, October 6\, 2016\nTime: 1:00 – 1:30pm EDT \nIn this session you will learn: \n\nHow to use metrics to identify the need for change in the organization\nIntroducing change and change management \nHow business mergers and acquisitions can drive process standardization\n\nREGISTER NOW!
URL:http://staging.topstepconsulting.com/event/managing-change-professional-services/
CATEGORIES:FinancialForce,FinancialForce Webinar,OpenAir,OpenAir Webinar
ATTACH;FMTTYPE=image/jpeg:http://staging.topstepconsulting.com/wp-content/uploads/2016/06/Webinar-PSA-Event-Icon.jpg
END:VEVENT
END:VCALENDAR