BEGIN:VCALENDAR
VERSION:2.0
PRODID:-//TOP Step Consulting - ECPv6.13.2.1//NONSGML v1.0//EN
CALSCALE:GREGORIAN
METHOD:PUBLISH
X-ORIGINAL-URL:http://staging.topstepconsulting.com
X-WR-CALDESC:Events for TOP Step Consulting
REFRESH-INTERVAL;VALUE=DURATION:PT1H
X-Robots-Tag:noindex
X-PUBLISHED-TTL:PT1H
BEGIN:VTIMEZONE
TZID:America/New_York
BEGIN:DAYLIGHT
TZOFFSETFROM:-0500
TZOFFSETTO:-0400
TZNAME:EDT
DTSTART:20150308T070000
END:DAYLIGHT
BEGIN:STANDARD
TZOFFSETFROM:-0400
TZOFFSETTO:-0500
TZNAME:EST
DTSTART:20151101T060000
END:STANDARD
END:VTIMEZONE
BEGIN:VEVENT
DTSTART;TZID=America/New_York:20151119T130000
DTEND;TZID=America/New_York:20151119T140000
DTSTAMP:20260425T062611
CREATED:20150724T141009Z
LAST-MODIFIED:20150724T141009Z
UID:9191-1447938000-1447941600@staging.topstepconsulting.com
SUMMARY:OpenAir Expert Webinar Series: Subcontractor Handling
DESCRIPTION:Date: Thursday\, Nov 19\, 2015\nTime: 1:00-2:00pm EST \nIn this session you will learn more about: \n\nCost tracking options within OpenAir (Pros and Cons)\nHow to handle a mixture of approaches for costing\nHow to handle impact on resource management\nValuable metrics to aid in staffing decisions for subcontractor needs\n\nREGISTER NOW!
URL:http://staging.topstepconsulting.com/event/openair-expert-webinar-series-subcontractor-handling/
LOCATION:MA
CATEGORIES:OpenAir,OpenAir Webinar
END:VEVENT
BEGIN:VEVENT
DTSTART;TZID=America/New_York:20151119T130000
DTEND;TZID=America/New_York:20151119T140000
DTSTAMP:20260425T062611
CREATED:20150724T141009Z
LAST-MODIFIED:20150724T141009Z
UID:10770-1447938000-1447941600@staging.topstepconsulting.com
SUMMARY:OpenAir Expert Webinar Series: Subcontractor Handling
DESCRIPTION:Date: Thursday\, Nov 19\, 2015\nTime: 1:00-2:00pm EST \nIn this session you will learn more about: \n\nCost tracking options within OpenAir (Pros and Cons)\nHow to handle a mixture of approaches for costing\nHow to handle impact on resource management\nValuable metrics to aid in staffing decisions for subcontractor needs\n\nREGISTER NOW!
URL:http://staging.topstepconsulting.com/event/openair-expert-webinar-series-subcontractor-handling-2/
LOCATION:MA
CATEGORIES:OpenAir,OpenAir Webinar
END:VEVENT
BEGIN:VEVENT
DTSTART;TZID=America/New_York:20151113T110000
DTEND;TZID=America/New_York:20151113T140000
DTSTAMP:20260425T062611
CREATED:20150724T142229Z
LAST-MODIFIED:20150724T142229Z
UID:10781-1447412400-1447423200@staging.topstepconsulting.com
SUMMARY:Kansas City OpenAir User Group
DESCRIPTION:Date: Friday\, November 13\, 2015\nTime: 11am-2pm (CST)\nFee: $0\nLunch will be served during our meeting. \nCome join us for an interactive meeting to learn more about usage of NetSuite OpenAir! \nThese meetings are a great place to share best practices\, learn tips and tricks\, and network with fellow NetSuite OpenAir users.  Space is limited for each session\, so sign up today and reserve your spot! \nSession Topic:\nBest Practices Presentation\nOpen Discussion and Best Practices sharing \nLocation:\niModules Software\n5101 College Blvd\nLeawood\, KS 66211\n\nREGISTER NOW!
URL:http://staging.topstepconsulting.com/event/kansas-city-openair-user-group-2/
LOCATION:iModules Software\, 5101 College Blvd\, Leawood\, KS\,  66211 \, United States
CATEGORIES:OpenAir,OpenAir User Group
END:VEVENT
BEGIN:VEVENT
DTSTART;TZID=America/New_York:20151113T110000
DTEND;TZID=America/New_York:20151113T140000
DTSTAMP:20260425T062611
CREATED:20150724T142229Z
LAST-MODIFIED:20150724T142229Z
UID:9201-1447412400-1447423200@staging.topstepconsulting.com
SUMMARY:Kansas City OpenAir User Group
DESCRIPTION:Date: Friday\, November 13\, 2015\nTime: 11am-2pm (CST)\nFee: $0\nLunch will be served during our meeting. \nCome join us for an interactive meeting to learn more about usage of NetSuite OpenAir! \nThese meetings are a great place to share best practices\, learn tips and tricks\, and network with fellow NetSuite OpenAir users.  Space is limited for each session\, so sign up today and reserve your spot! \nSession Topic:\nBest Practices Presentation\nOpen Discussion and Best Practices sharing \nLocation:\niModules Software\n5101 College Blvd\nLeawood\, KS 66211\n\nREGISTER NOW!
URL:http://staging.topstepconsulting.com/event/kansas-city-openair-user-group/
LOCATION:iModules Software\, 5101 College Blvd\, Leawood\, KS\,  66211 \, United States
CATEGORIES:OpenAir,OpenAir User Group
END:VEVENT
BEGIN:VEVENT
DTSTART;TZID=America/New_York:20151106T110000
DTEND;TZID=America/New_York:20151106T140000
DTSTAMP:20260425T062611
CREATED:20150724T142138Z
LAST-MODIFIED:20150724T142138Z
UID:9200-1446807600-1446818400@staging.topstepconsulting.com
SUMMARY:San Francisco OpenAir User Group
DESCRIPTION:Date: Friday\, November 6\, 2015\nTime: 11am-2pm (MST)\nFee: $0\nLunch will be served during our meeting. \nCome join us for an interactive meeting to learn more about usage of NetSuite OpenAir! \nThese meetings are a great place to share best practices\, learn tips and tricks\, and network with fellow NetSuite OpenAir users.  Space is limited for each session\, so sign up today and reserve your spot! \nSession Topic:\nBest Practices Presentation\nOpen Discussion and Best Practices sharing \nLocation:\nProphet\n1 Bush 7th Floor\nConference Room: Play Studio\nSan Francisco\, CA  94104\n\nREGISTER NOW!
URL:http://staging.topstepconsulting.com/event/san-francisco-openair-user-group/
LOCATION:Prophet\, 1 Bush\, San Francisco\, CA\,  94104 \, United States
CATEGORIES:OpenAir,OpenAir User Group
END:VEVENT
BEGIN:VEVENT
DTSTART;TZID=America/New_York:20151106T110000
DTEND;TZID=America/New_York:20151106T140000
DTSTAMP:20260425T062611
CREATED:20150724T142138Z
LAST-MODIFIED:20150724T142138Z
UID:10780-1446807600-1446818400@staging.topstepconsulting.com
SUMMARY:San Francisco OpenAir User Group
DESCRIPTION:Date: Friday\, November 6\, 2015\nTime: 11am-2pm (MST)\nFee: $0\nLunch will be served during our meeting. \nCome join us for an interactive meeting to learn more about usage of NetSuite OpenAir! \nThese meetings are a great place to share best practices\, learn tips and tricks\, and network with fellow NetSuite OpenAir users.  Space is limited for each session\, so sign up today and reserve your spot! \nSession Topic:\nBest Practices Presentation\nOpen Discussion and Best Practices sharing \nLocation:\nProphet\n1 Bush 7th Floor\nConference Room: Play Studio\nSan Francisco\, CA  94104\n\nREGISTER NOW!
URL:http://staging.topstepconsulting.com/event/san-francisco-openair-user-group-3/
LOCATION:Prophet\, 1 Bush\, San Francisco\, CA\,  94104 \, United States
CATEGORIES:OpenAir,OpenAir User Group
END:VEVENT
BEGIN:VEVENT
DTSTART;VALUE=DATE:20151106
DTEND;VALUE=DATE:20151107
DTSTAMP:20260425T062611
CREATED:20151027T161354Z
LAST-MODIFIED:20151027T161354Z
UID:9455-1446768000-1446854399@staging.topstepconsulting.com
SUMMARY:The Consulting Summit
DESCRIPTION:Consulting 2020 – Focus on the Firm of the Future\n\nWhat’s the future of consulting? \nWhat will the profession look like in five years? \nWhat’s the firm of the future look like? \nHow will client delivery change?\nWhat will a successful firm look like in 2020? \nAnd\, how will emerging technologies continue to disrupt consulting? \n\n \nBig questions\, for sure. But that’s what the Consulting Summit has always set out to do—answer the tough questions and big challenges facing the profession. This year’s Consulting Summit will focus in on the future by taking a good hard look at where we are today. The day’s agenda will provide plenty of proprietary research and analysis from Consulting magazine’s sister company—Kennedy Consulting Research & Advisory (KCRA). Analysts will be on hand to provide market and business intelligence forecasts on consulting services worldwide as part of KCRA’s annual State of the Profession\, with data culled from its 2015 Global Consulting Market Index. In addition\, the Summit will also offer a keynote address from The Boston Consulting Group’s Ross Love\, Senior Partner & Managing Director and Debbie Lovich\, Senior Advisor\, Leader of BCG’s Leadership and Talent Enablement Center in North America\, discussing the evolution necessary for consultancies to succeed in the future. \nIn addition\, the Summit will offer a diversity of thought and innovative ideas about the road ahead via panel discussions and breakouts sessions focused on the challenges of today and the solutions of tomorrow. Finally\, the Summit is the one of the consulting profession’s premier networking events. Join consulting colleagues\, co-workers and clients at this one-day event that promises to deliver a clear 2020 vision for consulting.
URL:http://staging.topstepconsulting.com/event/the-consulting-summit/
LOCATION:The University Club\, One West 54th Street\, New York\, NY\,  10019 \, United States
CATEGORIES:Conference,FinancialForce,OpenAir
END:VEVENT
BEGIN:VEVENT
DTSTART;VALUE=DATE:20151106
DTEND;VALUE=DATE:20151107
DTSTAMP:20260425T062611
CREATED:20151027T161354Z
LAST-MODIFIED:20151027T161354Z
UID:10791-1446768000-1446854399@staging.topstepconsulting.com
SUMMARY:The Consulting Summit
DESCRIPTION:Consulting 2020 – Focus on the Firm of the Future\n\nWhat’s the future of consulting? \nWhat will the profession look like in five years? \nWhat’s the firm of the future look like? \nHow will client delivery change?\nWhat will a successful firm look like in 2020? \nAnd\, how will emerging technologies continue to disrupt consulting? \n\n \nBig questions\, for sure. But that’s what the Consulting Summit has always set out to do—answer the tough questions and big challenges facing the profession. This year’s Consulting Summit will focus in on the future by taking a good hard look at where we are today. The day’s agenda will provide plenty of proprietary research and analysis from Consulting magazine’s sister company—Kennedy Consulting Research & Advisory (KCRA). Analysts will be on hand to provide market and business intelligence forecasts on consulting services worldwide as part of KCRA’s annual State of the Profession\, with data culled from its 2015 Global Consulting Market Index. In addition\, the Summit will also offer a keynote address from The Boston Consulting Group’s Ross Love\, Senior Partner & Managing Director and Debbie Lovich\, Senior Advisor\, Leader of BCG’s Leadership and Talent Enablement Center in North America\, discussing the evolution necessary for consultancies to succeed in the future. \nIn addition\, the Summit will offer a diversity of thought and innovative ideas about the road ahead via panel discussions and breakouts sessions focused on the challenges of today and the solutions of tomorrow. Finally\, the Summit is the one of the consulting profession’s premier networking events. Join consulting colleagues\, co-workers and clients at this one-day event that promises to deliver a clear 2020 vision for consulting.
URL:http://staging.topstepconsulting.com/event/the-consulting-summit-2/
LOCATION:The University Club\, One West 54th Street\, New York\, NY\,  10019 \, United States
CATEGORIES:Conference,FinancialForce,OpenAir
END:VEVENT
BEGIN:VEVENT
DTSTART;TZID=America/New_York:20151015T130000
DTEND;TZID=America/New_York:20151015T140000
DTSTAMP:20260425T062611
CREATED:20150724T140910Z
LAST-MODIFIED:20150724T140910Z
UID:9190-1444914000-1444917600@staging.topstepconsulting.com
SUMMARY:OpenAir Expert Webinar Series: Skill Database - Tracking Skill Sets\, Product Knowledge\, Industry Knowledge
DESCRIPTION:Date: Thursday\, Oct 15\, 2015\nTime: 1:00-2:00pm EDT \nIn this interactive webinar you will learn more about using skill profiles in OpenAir including: \n\nCreating and managing skill profiles\nIncorporating skill profiles into your resource management process\nOther uses for skill profile elements\nBest practice tips\n\nREGISTER NOW!
URL:http://staging.topstepconsulting.com/event/openair-expert-webinar-series-skill-database-tracking-skill-sets-product-knowledge-industry-knowledge/
LOCATION:MA
CATEGORIES:OpenAir,OpenAir Webinar
END:VEVENT
BEGIN:VEVENT
DTSTART;TZID=America/New_York:20151015T130000
DTEND;TZID=America/New_York:20151015T140000
DTSTAMP:20260425T062611
CREATED:20150724T140910Z
LAST-MODIFIED:20150724T140910Z
UID:10769-1444914000-1444917600@staging.topstepconsulting.com
SUMMARY:OpenAir Expert Webinar Series: Skill Database - Tracking Skill Sets\, Product Knowledge\, Industry Knowledge
DESCRIPTION:Date: Thursday\, Oct 15\, 2015\nTime: 1:00-2:00pm EDT \nIn this interactive webinar you will learn more about using skill profiles in OpenAir including: \n\nCreating and managing skill profiles\nIncorporating skill profiles into your resource management process\nOther uses for skill profile elements\nBest practice tips\n\nREGISTER NOW!
URL:http://staging.topstepconsulting.com/event/openair-expert-webinar-series-skill-database-tracking-skill-sets-product-knowledge-industry-knowledge-2/
LOCATION:MA
CATEGORIES:OpenAir,OpenAir Webinar
END:VEVENT
BEGIN:VEVENT
DTSTART;TZID=America/New_York:20151009T110000
DTEND;TZID=America/New_York:20151009T140000
DTSTAMP:20260425T062611
CREATED:20150724T142012Z
LAST-MODIFIED:20150724T142012Z
UID:9198-1444388400-1444399200@staging.topstepconsulting.com
SUMMARY:Chicago OpenAir User Group
DESCRIPTION:Date: Friday\, October 9\, 2015\nTime: 11am-2pm (CDT)\nFee: $0\nLunch will be served during our meeting. \nCome join us for an interactive meeting to learn more about usage of NetSuite OpenAir! \nThese meetings are a great place to share best practices\, learn tips and tricks\, and network with fellow NetSuite OpenAir users.  Space is limited for each session\, so sign up today and reserve your spot! \nSession Topic:\nBest Practices Presentation\nOpen Discussion and Best Practices sharing \nLocation:\nRightpoint\n29 North Wacker Drive\n4th Floor\nChicago\, Illinois 60606\n\nREGISTER NOW!
URL:http://staging.topstepconsulting.com/event/chicago-openair-user-group/
LOCATION:Rightpoint\, 29 North Wacker Drive\, 4th Floor\, Chicago\, IL\,  60606 \, United States
CATEGORIES:OpenAir,OpenAir User Group
END:VEVENT
BEGIN:VEVENT
DTSTART;TZID=America/New_York:20151009T110000
DTEND;TZID=America/New_York:20151009T140000
DTSTAMP:20260425T062611
CREATED:20150724T142012Z
LAST-MODIFIED:20150724T142012Z
UID:10779-1444388400-1444399200@staging.topstepconsulting.com
SUMMARY:Chicago OpenAir User Group
DESCRIPTION:Date: Friday\, October 9\, 2015\nTime: 11am-2pm (CDT)\nFee: $0\nLunch will be served during our meeting. \nCome join us for an interactive meeting to learn more about usage of NetSuite OpenAir! \nThese meetings are a great place to share best practices\, learn tips and tricks\, and network with fellow NetSuite OpenAir users.  Space is limited for each session\, so sign up today and reserve your spot! \nSession Topic:\nBest Practices Presentation\nOpen Discussion and Best Practices sharing \nLocation:\nRightpoint\n29 North Wacker Drive\n4th Floor\nChicago\, Illinois 60606\n\nREGISTER NOW!
URL:http://staging.topstepconsulting.com/event/chicago-openair-user-group-3/
LOCATION:Rightpoint\, 29 North Wacker Drive\, 4th Floor\, Chicago\, IL\,  60606 \, United States
CATEGORIES:OpenAir,OpenAir User Group
END:VEVENT
BEGIN:VEVENT
DTSTART;TZID=America/New_York:20150911T083000
DTEND;TZID=America/New_York:20150911T113000
DTSTAMP:20260425T062611
CREATED:20150825T155845Z
LAST-MODIFIED:20150825T155845Z
UID:10790-1441960200-1441971000@staging.topstepconsulting.com
SUMMARY:NetSuite Boston PS Executive Breakfast
DESCRIPTION:Join NetSuite in Boston on September 11 for an invitation-only executive breakfast on the keys to success for the “best-of-the-best” in professional services. Find out how top organizations outperform their peers in profitability\, per-project revenue\, client satisfaction and more. \nTopic:\nChart Your Course to Professional Services Excellence\n\nDate:\nFriday\, September 11\, 2015\n\nTime:\n8:30–11:30 a.m.\n*Breakfast served at 8:00 a.m.\, lunch served at 11:30 a.m.\n\nLocation:\nThe Four Seasons Boston\n2nd Floor\n200 Boylston St.\nBoston\, MA 02116\n\nAt this complimentary breakfast briefing\, you’ll take away best practices to implement in your organization\, while networking with your peers in the services and technology industries.\n\nREGISTER NOW
URL:http://staging.topstepconsulting.com/event/netsuite-boston-ps-executive-breakfast-2/
LOCATION:The Four Seasons Boston\, 200 Boylston St.\, Boston\, MA\,  02116 \, United States
CATEGORIES:Conference,OpenAir,OpenAir User Group
END:VEVENT
BEGIN:VEVENT
DTSTART;TZID=America/New_York:20150911T083000
DTEND;TZID=America/New_York:20150911T113000
DTSTAMP:20260425T062611
CREATED:20150825T155845Z
LAST-MODIFIED:20150825T155845Z
UID:9320-1441960200-1441971000@staging.topstepconsulting.com
SUMMARY:NetSuite Boston PS Executive Breakfast
DESCRIPTION:Join NetSuite in Boston on September 11 for an invitation-only executive breakfast on the keys to success for the “best-of-the-best” in professional services. Find out how top organizations outperform their peers in profitability\, per-project revenue\, client satisfaction and more. \nTopic:\nChart Your Course to Professional Services Excellence\n\nDate:\nFriday\, September 11\, 2015\n\nTime:\n8:30–11:30 a.m.\n*Breakfast served at 8:00 a.m.\, lunch served at 11:30 a.m.\n\nLocation:\nThe Four Seasons Boston\n2nd Floor\n200 Boylston St.\nBoston\, MA 02116\n\nAt this complimentary breakfast briefing\, you’ll take away best practices to implement in your organization\, while networking with your peers in the services and technology industries.\n\nREGISTER NOW
URL:http://staging.topstepconsulting.com/event/netsuite-boston-ps-executive-breakfast/
LOCATION:The Four Seasons Boston\, 200 Boylston St.\, Boston\, MA\,  02116 \, United States
CATEGORIES:Conference,OpenAir,OpenAir User Group
END:VEVENT
END:VCALENDAR