BEGIN:VCALENDAR
VERSION:2.0
PRODID:-//TOP Step Consulting - ECPv6.13.2.1//NONSGML v1.0//EN
CALSCALE:GREGORIAN
METHOD:PUBLISH
X-ORIGINAL-URL:http://staging.topstepconsulting.com
X-WR-CALDESC:Events for TOP Step Consulting
REFRESH-INTERVAL;VALUE=DURATION:PT1H
X-Robots-Tag:noindex
X-PUBLISHED-TTL:PT1H
BEGIN:VTIMEZONE
TZID:America/New_York
BEGIN:DAYLIGHT
TZOFFSETFROM:-0500
TZOFFSETTO:-0400
TZNAME:EDT
DTSTART:20150308T070000
END:DAYLIGHT
BEGIN:STANDARD
TZOFFSETFROM:-0400
TZOFFSETTO:-0500
TZNAME:EST
DTSTART:20151101T060000
END:STANDARD
END:VTIMEZONE
BEGIN:VEVENT
DTSTART;VALUE=DATE:20150619
DTEND;VALUE=DATE:20150620
DTSTAMP:20260424T112514
CREATED:20150429T165430Z
LAST-MODIFIED:20150429T165430Z
UID:10766-1434672000-1434758399@staging.topstepconsulting.com
SUMMARY:Portland OpenAir User Group
DESCRIPTION:Time:  11:00am – 2:00pm PDT \nLunch will be served during our meeting.  \nCome join us for an interactive meeting to learn more about usage of NetSuite OpenAir!  The purpose is to bring together NetSuite OpenAir users to exchange ideas about efficient system usage and share best practices with others.\n\nThe Session:   \n\nBest practices presentation\nBest Practices sharing\nInteractive discussion with attendees\n\n \nLocation:\nTBD \n \nREGISTER NOW!
URL:http://staging.topstepconsulting.com/event/portland-openair-user-group-3/
CATEGORIES:OpenAir User Group
END:VEVENT
BEGIN:VEVENT
DTSTART;VALUE=DATE:20150612
DTEND;VALUE=DATE:20150613
DTSTAMP:20260424T112514
CREATED:20150429T165430Z
LAST-MODIFIED:20150429T165430Z
UID:9028-1434067200-1434153599@staging.topstepconsulting.com
SUMMARY:Toronto OpenAir User Group
DESCRIPTION:Time:  11:00am – 2:00pm EDT \nLunch will be served during our meeting.  \nCome join us for an interactive meeting to learn more about usage of NetSuite OpenAir!  The purpose is to bring together NetSuite OpenAir users to exchange ideas about efficient system usage and share best practices with others.\n\nThe Session:   \n\nBest practices presentation\nBest Practices sharing\nInteractive discussion with attendees\n\n \nLocation:\nTBD
URL:http://staging.topstepconsulting.com/event/toronto-openair-user-group/
CATEGORIES:OpenAir User Group
END:VEVENT
BEGIN:VEVENT
DTSTART;VALUE=DATE:20150612
DTEND;VALUE=DATE:20150613
DTSTAMP:20260424T112514
CREATED:20150429T165430Z
LAST-MODIFIED:20150429T165430Z
UID:10764-1434067200-1434153599@staging.topstepconsulting.com
SUMMARY:Toronto OpenAir User Group
DESCRIPTION:Time:  11:00am – 2:00pm EDT \nLunch will be served during our meeting.  \nCome join us for an interactive meeting to learn more about usage of NetSuite OpenAir!  The purpose is to bring together NetSuite OpenAir users to exchange ideas about efficient system usage and share best practices with others.\n\nThe Session:   \n\nBest practices presentation\nBest Practices sharing\nInteractive discussion with attendees\n\n \nLocation:\nTBD
URL:http://staging.topstepconsulting.com/event/toronto-openair-user-group-2/
CATEGORIES:OpenAir User Group
END:VEVENT
END:VCALENDAR