BEGIN:VCALENDAR
VERSION:2.0
PRODID:-//TOP Step Consulting - ECPv6.13.2.1//NONSGML v1.0//EN
CALSCALE:GREGORIAN
METHOD:PUBLISH
X-ORIGINAL-URL:http://staging.topstepconsulting.com
X-WR-CALDESC:Events for TOP Step Consulting
REFRESH-INTERVAL;VALUE=DURATION:PT1H
X-Robots-Tag:noindex
X-PUBLISHED-TTL:PT1H
BEGIN:VTIMEZONE
TZID:America/New_York
BEGIN:DAYLIGHT
TZOFFSETFROM:-0500
TZOFFSETTO:-0400
TZNAME:EDT
DTSTART:20150308T070000
END:DAYLIGHT
BEGIN:STANDARD
TZOFFSETFROM:-0400
TZOFFSETTO:-0500
TZNAME:EST
DTSTART:20151101T060000
END:STANDARD
END:VTIMEZONE
BEGIN:VEVENT
DTSTART;TZID=America/New_York:20151008T130000
DTEND;TZID=America/New_York:20151008T140000
DTSTAMP:20260424T193740
CREATED:20150724T142511Z
LAST-MODIFIED:20150724T142511Z
UID:9204-1444309200-1444312800@staging.topstepconsulting.com
SUMMARY:FinancialForce PSA Webinar: Managing Skill Set and Knowledge
DESCRIPTION:Date: Thursday\, October 8\, 2015\nTime: 1:00-2:00pm EDT \nIn this live webinar you will learn more about using skills in FinancialForce PSA including: \n\nCreating and managing skill profiles\nIncorporating skill profiles into your resource management process\nOther uses for skill profile elements\nBest practice tips\n\n \nREGISTER NOW!
URL:http://staging.topstepconsulting.com/event/financialforce-psa-webinar-managing-skill-set-and-knowledge/
CATEGORIES:FinancialForce,FinancialForce Webinar
END:VEVENT
BEGIN:VEVENT
DTSTART;TZID=America/New_York:20151008T130000
DTEND;TZID=America/New_York:20151008T140000
DTSTAMP:20260424T193740
CREATED:20150724T142511Z
LAST-MODIFIED:20150724T142511Z
UID:10784-1444309200-1444312800@staging.topstepconsulting.com
SUMMARY:FinancialForce PSA Webinar: Managing Skill Set and Knowledge
DESCRIPTION:Date: Thursday\, October 8\, 2015\nTime: 1:00-2:00pm EDT \nIn this live webinar you will learn more about using skills in FinancialForce PSA including: \n\nCreating and managing skill profiles\nIncorporating skill profiles into your resource management process\nOther uses for skill profile elements\nBest practice tips\n\n \nREGISTER NOW!
URL:http://staging.topstepconsulting.com/event/financialforce-psa-webinar-managing-skill-set-and-knowledge-2/
CATEGORIES:FinancialForce,FinancialForce Webinar
END:VEVENT
BEGIN:VEVENT
DTSTART;TZID=America/New_York:20150910T130000
DTEND;TZID=America/New_York:20150910T140000
DTSTAMP:20260424T193740
CREATED:20150724T142431Z
LAST-MODIFIED:20150724T142431Z
UID:9203-1441890000-1441893600@staging.topstepconsulting.com
SUMMARY:FinancialForce PSA Webinar: Best Practices for Maintaining Your FinancialForce PSA System
DESCRIPTION:Date: Thursday\, September 10\, 2015\nTime: 1:00-2:00pm EDT \nIn this live webinar we’ll review best practices for maintaining FinancialForce PSA to support adoption\, open the door for new feature implementation\, ensure data accuracy and compliance\, and a positive end user experience. \n\nBest practices for Roles\, Profiles\, and Permission Set\nAudit and compliance reporting\nKeeping your UI clean\nRelease management\n\n \nREGISTER NOW!
URL:http://staging.topstepconsulting.com/event/financialforce-psa-webinar-best-practices-for-maintaining-your-financialforce-psa-system/
CATEGORIES:FinancialForce,FinancialForce Webinar
END:VEVENT
BEGIN:VEVENT
DTSTART;TZID=America/New_York:20150910T130000
DTEND;TZID=America/New_York:20150910T140000
DTSTAMP:20260424T193740
CREATED:20150724T142431Z
LAST-MODIFIED:20150724T142431Z
UID:10783-1441890000-1441893600@staging.topstepconsulting.com
SUMMARY:FinancialForce PSA Webinar: Best Practices for Maintaining Your FinancialForce PSA System
DESCRIPTION:Date: Thursday\, September 10\, 2015\nTime: 1:00-2:00pm EDT \nIn this live webinar we’ll review best practices for maintaining FinancialForce PSA to support adoption\, open the door for new feature implementation\, ensure data accuracy and compliance\, and a positive end user experience. \n\nBest practices for Roles\, Profiles\, and Permission Set\nAudit and compliance reporting\nKeeping your UI clean\nRelease management\n\n \nREGISTER NOW!
URL:http://staging.topstepconsulting.com/event/financialforce-psa-webinar-best-practices-for-maintaining-your-financialforce-psa-system-2/
CATEGORIES:FinancialForce,FinancialForce Webinar
END:VEVENT
BEGIN:VEVENT
DTSTART;TZID=America/New_York:20150813T130000
DTEND;TZID=America/New_York:20150813T140000
DTSTAMP:20260424T193740
CREATED:20150724T142336Z
LAST-MODIFIED:20150724T142336Z
UID:9202-1439470800-1439474400@staging.topstepconsulting.com
SUMMARY:FinancialForce PSA Webinar: Streamline Project Communication and Collaboration with FinancialForce PSA
DESCRIPTION:Date: Thursday\, August 13\, 2015\nTime: 1:00-2:00pm EDT \nIn this live webinar you will learn more about using the power of the Salesforce platform along with the data in FinancialForce PSA to communicate and collaborate with project teams\, customers and partners using real-time\, actionable information. \n\nBest practices for enabling real-time communication and collaboration\nSalesforce.com features available to communicate PSA information to stakeholders\nMaturity model for enabling collaboration\nData visibility and security controls\n\n \nREGISTER NOW!
URL:http://staging.topstepconsulting.com/event/financialforce-psa-webinar-streamline-project-communication-and-collaboration-with-financialforce-psa/
CATEGORIES:FinancialForce Webinar
END:VEVENT
BEGIN:VEVENT
DTSTART;TZID=America/New_York:20150813T130000
DTEND;TZID=America/New_York:20150813T140000
DTSTAMP:20260424T193740
CREATED:20150724T142336Z
LAST-MODIFIED:20150724T142336Z
UID:10782-1439470800-1439474400@staging.topstepconsulting.com
SUMMARY:FinancialForce PSA Webinar: Streamline Project Communication and Collaboration with FinancialForce PSA
DESCRIPTION:Date: Thursday\, August 13\, 2015\nTime: 1:00-2:00pm EDT \nIn this live webinar you will learn more about using the power of the Salesforce platform along with the data in FinancialForce PSA to communicate and collaborate with project teams\, customers and partners using real-time\, actionable information. \n\nBest practices for enabling real-time communication and collaboration\nSalesforce.com features available to communicate PSA information to stakeholders\nMaturity model for enabling collaboration\nData visibility and security controls\n\n \nREGISTER NOW!
URL:http://staging.topstepconsulting.com/event/financialforce-psa-webinar-streamline-project-communication-and-collaboration-with-financialforce-psa-2/
CATEGORIES:FinancialForce Webinar
END:VEVENT
BEGIN:VEVENT
DTSTART;VALUE=DATE:20150611
DTEND;VALUE=DATE:20150612
DTSTAMP:20260424T193740
CREATED:20150429T165430Z
LAST-MODIFIED:20150429T165430Z
UID:9027-1433980800-1434067199@staging.topstepconsulting.com
SUMMARY:FinancialForce PSA Webinar: Utilization Best Practices
DESCRIPTION:Time: 1:00pm-2:00pm EDT \nIn this live webinar you will learn best practices around utilization including utilization calculations and viewing/reporting on utilization by region\, practice\, group\, and user. \nREGISTER NOW!
URL:http://staging.topstepconsulting.com/event/financialforce-psa-webinar-utilization-best-practices/
CATEGORIES:FinancialForce Webinar
END:VEVENT
BEGIN:VEVENT
DTSTART;VALUE=DATE:20150611
DTEND;VALUE=DATE:20150612
DTSTAMP:20260424T193740
CREATED:20150429T165430Z
LAST-MODIFIED:20150429T165430Z
UID:10763-1433980800-1434067199@staging.topstepconsulting.com
SUMMARY:FinancialForce PSA Webinar: Utilization Best Practices
DESCRIPTION:Time: 1:00pm-2:00pm EDT \nIn this live webinar you will learn best practices around utilization including utilization calculations and viewing/reporting on utilization by region\, practice\, group\, and user. \nREGISTER NOW!
URL:http://staging.topstepconsulting.com/event/financialforce-psa-webinar-utilization-best-practices-2/
CATEGORIES:FinancialForce Webinar
END:VEVENT
BEGIN:VEVENT
DTSTART;VALUE=DATE:20150514
DTEND;VALUE=DATE:20150515
DTSTAMP:20260424T193740
CREATED:20150429T142035Z
LAST-MODIFIED:20150429T142035Z
UID:9023-1431561600-1431647999@staging.topstepconsulting.com
SUMMARY:FinancialForce PSA Webinar: Driving Adoption for Your PSA
DESCRIPTION:Time: 1:00-2:00pm EDT \nIn this live webinar you will learn tips and tricks for driving adoption of your current PSA and how to roll-out new features to the end user community. \n \nREGISTER NOW!
URL:http://staging.topstepconsulting.com/event/financialforce-psa-webinar-driving-adoption-for-your-psa/
CATEGORIES:FinancialForce Webinar
END:VEVENT
BEGIN:VEVENT
DTSTART;VALUE=DATE:20150514
DTEND;VALUE=DATE:20150515
DTSTAMP:20260424T193740
CREATED:20150429T142035Z
LAST-MODIFIED:20150429T142035Z
UID:10761-1431561600-1431647999@staging.topstepconsulting.com
SUMMARY:FinancialForce PSA Webinar: Driving Adoption for Your PSA
DESCRIPTION:Time: 1:00-2:00pm EDT \nIn this live webinar you will learn tips and tricks for driving adoption of your current PSA and how to roll-out new features to the end user community. \n \nREGISTER NOW!
URL:http://staging.topstepconsulting.com/event/financialforce-psa-webinar-driving-adoption-for-your-psa-2/
CATEGORIES:FinancialForce Webinar
END:VEVENT
END:VCALENDAR