BEGIN:VCALENDAR
VERSION:2.0
PRODID:-//TOP Step Consulting - ECPv6.13.2.1//NONSGML v1.0//EN
CALSCALE:GREGORIAN
METHOD:PUBLISH
X-WR-CALNAME:TOP Step Consulting
X-ORIGINAL-URL:http://staging.topstepconsulting.com
X-WR-CALDESC:Events for TOP Step Consulting
REFRESH-INTERVAL;VALUE=DURATION:PT1H
X-Robots-Tag:noindex
X-PUBLISHED-TTL:PT1H
BEGIN:VTIMEZONE
TZID:America/New_York
BEGIN:DAYLIGHT
TZOFFSETFROM:-0500
TZOFFSETTO:-0400
TZNAME:EDT
DTSTART:20150308T070000
END:DAYLIGHT
BEGIN:STANDARD
TZOFFSETFROM:-0400
TZOFFSETTO:-0500
TZNAME:EST
DTSTART:20151101T060000
END:STANDARD
BEGIN:DAYLIGHT
TZOFFSETFROM:-0500
TZOFFSETTO:-0400
TZNAME:EDT
DTSTART:20160313T070000
END:DAYLIGHT
BEGIN:STANDARD
TZOFFSETFROM:-0400
TZOFFSETTO:-0500
TZNAME:EST
DTSTART:20161106T060000
END:STANDARD
BEGIN:DAYLIGHT
TZOFFSETFROM:-0500
TZOFFSETTO:-0400
TZNAME:EDT
DTSTART:20170312T070000
END:DAYLIGHT
BEGIN:STANDARD
TZOFFSETFROM:-0400
TZOFFSETTO:-0500
TZNAME:EST
DTSTART:20171105T060000
END:STANDARD
BEGIN:DAYLIGHT
TZOFFSETFROM:-0500
TZOFFSETTO:-0400
TZNAME:EDT
DTSTART:20180311T070000
END:DAYLIGHT
BEGIN:STANDARD
TZOFFSETFROM:-0400
TZOFFSETTO:-0500
TZNAME:EST
DTSTART:20181104T060000
END:STANDARD
BEGIN:DAYLIGHT
TZOFFSETFROM:-0500
TZOFFSETTO:-0400
TZNAME:EDT
DTSTART:20190310T070000
END:DAYLIGHT
BEGIN:STANDARD
TZOFFSETFROM:-0400
TZOFFSETTO:-0500
TZNAME:EST
DTSTART:20191103T060000
END:STANDARD
END:VTIMEZONE
BEGIN:VTIMEZONE
TZID:Europe/London
BEGIN:DAYLIGHT
TZOFFSETFROM:+0000
TZOFFSETTO:+0100
TZNAME:BST
DTSTART:20160327T010000
END:DAYLIGHT
BEGIN:STANDARD
TZOFFSETFROM:+0100
TZOFFSETTO:+0000
TZNAME:GMT
DTSTART:20161030T010000
END:STANDARD
END:VTIMEZONE
BEGIN:VTIMEZONE
TZID:America/Los_Angeles
BEGIN:DAYLIGHT
TZOFFSETFROM:-0800
TZOFFSETTO:-0700
TZNAME:PDT
DTSTART:20160313T100000
END:DAYLIGHT
BEGIN:STANDARD
TZOFFSETFROM:-0700
TZOFFSETTO:-0800
TZNAME:PST
DTSTART:20161106T090000
END:STANDARD
END:VTIMEZONE
BEGIN:VEVENT
DTSTART;VALUE=DATE:20190401
DTEND;VALUE=DATE:20190405
DTSTAMP:20260423T174813
CREATED:20181228T150559Z
LAST-MODIFIED:20181228T150559Z
UID:20324-1554076800-1554422399@staging.topstepconsulting.com
SUMMARY:SuiteWorld
DESCRIPTION:Oracle NetSuite SuiteWorld\, the industry’s #1 Cloud ERP event of the year\, is returning to Las Vegas. Get ready for three days packed full of actionable insights that will help you grow your business’s bottom line immediately.  We look forward to seeing you there!
URL:http://staging.topstepconsulting.com/event/suiteworld/
LOCATION:The Sands Expo and Convention Center\, 201 Sands Ave\, Las Vegas\, NV\, 86169\, United States
CATEGORIES:Conference
END:VEVENT
BEGIN:VEVENT
DTSTART;TZID=America/New_York:20171023T080000
DTEND;TZID=America/New_York:20171025T170000
DTSTAMP:20260423T174813
CREATED:20170504T131733Z
LAST-MODIFIED:20170504T180722Z
UID:19197-1508745600-1508950800@staging.topstepconsulting.com
SUMMARY:TSW Fall
DESCRIPTION:October 23-25\nLas Vegas\, ARIA \nJoin service executives and learn how to maximize recurring revenues and deliver an exceptional customer experience.  TOP Step Consulting is a proud sponsor.  Stop by to see us on the Expo floor. \nTo learn more:  http://www.technologyservicesworld.com/
URL:http://staging.topstepconsulting.com/event/tsw-2/
LOCATION:NV
CATEGORIES:Conference
END:VEVENT
BEGIN:VEVENT
DTSTART;TZID=America/New_York:20170619T080000
DTEND;TZID=America/New_York:20170621T170000
DTSTAMP:20260423T174813
CREATED:20170504T131701Z
LAST-MODIFIED:20170504T181100Z
UID:19195-1497859200-1498064400@staging.topstepconsulting.com
SUMMARY:FinancialForce Community Live Vegas
DESCRIPTION:June 19-21\nLas Vegas\, Caesars Palace \n3 days of educational sessions and networking with the FinancialForce user community.  TOP Step Consulting is proud to be a Gold Sponsor! \nTo learn more:  https://communitylive.financialforce.com/lasvegas-home/
URL:http://staging.topstepconsulting.com/event/community-live-vegas/
LOCATION:NV
CATEGORIES:Conference,FinancialForce
END:VEVENT
BEGIN:VEVENT
DTSTART;TZID=America/New_York:20170517T080000
DTEND;TZID=America/New_York:20170518T170000
DTSTAMP:20260423T174813
CREATED:20170504T131627Z
LAST-MODIFIED:20170504T180929Z
UID:19193-1495008000-1495126800@staging.topstepconsulting.com
SUMMARY:FinancialForce Community Live UK
DESCRIPTION:May 17-18\nLondon @ The Crystal \n2 days of educational sessions and networking with the FinancialForce user community. \nTo learn more:  https://communitylive.financialforce.com/london-home/
URL:http://staging.topstepconsulting.com/event/community-live-uk/
LOCATION:NV
CATEGORIES:Conference,FinancialForce
END:VEVENT
BEGIN:VEVENT
DTSTART;TZID=America/New_York:20170501T080000
DTEND;TZID=America/New_York:20170503T170000
DTSTAMP:20260423T174813
CREATED:20170504T131555Z
LAST-MODIFIED:20170504T180606Z
UID:19191-1493625600-1493830800@staging.topstepconsulting.com
SUMMARY:TSW Spring
DESCRIPTION:May 1-3\, 2017\nSan Diego\, Hilton Bayfront \nLearn how to rethink your offers\, delivery processes\, and organizational structure to maximize your success.  TOP Step Consulting is excited to be a sponsor.  Look for us on the Expo Floor. \nTo Learn more: http://www.technologyservicesworld.com/
URL:http://staging.topstepconsulting.com/event/tsw/
LOCATION:NV
CATEGORIES:Conference
END:VEVENT
BEGIN:VEVENT
DTSTART;TZID=America/New_York:20170424T080000
DTEND;TZID=America/New_York:20170427T170000
DTSTAMP:20260423T174813
CREATED:20170504T131521Z
LAST-MODIFIED:20170504T180413Z
UID:19189-1493020800-1493312400@staging.topstepconsulting.com
SUMMARY:SuiteWorld17
DESCRIPTION:April 24-27\, 2017\nLas Vegas – Sands Expo \nAnnual gathering of NetSuite users\, partners and developers. \nTOP Step Consulting is proud to be a Gold Sponsor. Look for us on the expo floor! \nTo learn more: http://www.netsuitesuiteworld.com/
URL:http://staging.topstepconsulting.com/event/suiteworld17/
LOCATION:NV
CATEGORIES:Conference,OpenAir
END:VEVENT
BEGIN:VEVENT
DTSTART;TZID=America/New_York:20161021T140000
DTEND;TZID=America/New_York:20161023T123000
DTSTAMP:20260423T174813
CREATED:20160630T145659Z
LAST-MODIFIED:20160630T145659Z
UID:10194-1477058400-1477225800@staging.topstepconsulting.com
SUMMARY:2016 IMC USA Consulting Conference
DESCRIPTION:Join colleagues from around the world to share ideas\, catch up on exciting new trends and learn how to turn potential into profit. \nThree action packed days to network\, connect\, learn and build your business. \nFrom the opening keynote with Peter Block to the closing with Alan Weiss be prepared to be entertained and educated with our array of speakers.
URL:http://staging.topstepconsulting.com/event/2016-imc-usa-consulting-conference/
LOCATION:Marriott Washington Metro Center\, 775 12th St NW\, Washington\, DC\, DC\,  20005 \, United States
CATEGORIES:Conference,FinancialForce,OpenAir
END:VEVENT
BEGIN:VEVENT
DTSTART;TZID=America/New_York:20161021T140000
DTEND;TZID=America/New_York:20161023T123000
DTSTAMP:20260423T174813
CREATED:20160630T135955Z
LAST-MODIFIED:20160630T135955Z
UID:10232-1477058400-1477225800@staging.topstepconsulting.com
SUMMARY:2016 IMC USA Consulting Conference
DESCRIPTION:Join colleagues from around the world to share ideas\, catch up on exciting new trends and learn how to turn potential into profit. \nThree action packed days to network\, connect\, learn and build your business. \nFrom the opening keynote with Peter Block to the closing with Alan Weiss be prepared to be entertained and educated with our array of speakers.
URL:http://staging.topstepconsulting.com/event/2016-imc-usa-consulting-conference-2/
LOCATION:Marriott Washington Metro Center\, 775 12th St NW\, Washington\, DC\,  20005 \, United States
CATEGORIES:Conference,FinancialForce,OpenAir
END:VEVENT
BEGIN:VEVENT
DTSTART;TZID=America/New_York:20161017T070000
DTEND;TZID=America/New_York:20161019T140000
DTSTAMP:20260423T174813
CREATED:20160630T214518Z
LAST-MODIFIED:20160630T214518Z
UID:10198-1476687600-1476885600@staging.topstepconsulting.com
SUMMARY:2016 Technology Services World
DESCRIPTION:As our industry continues to pivot to the technology-as-a-service (XaaS) models\, some clear patterns are emerging. One the of the most important observations is that success in the cloud requires new and unprecedented levels of alignment and collaboration across corporate functions.  \nThe implications of these changes are profound and far-reaching\, affecting virtually every functional area in tech companies. For leaders looking to win with XaaS offers\, the TSW Las Vegas conference will provide insights around how to plan and execute the critical interlocks required to succeed in the XaaS economy.
URL:http://staging.topstepconsulting.com/event/2016-technology-services-world/
LOCATION:ARIA Resort & Casino\, 3730 S. Las Vegas Blvd.\, Las Vegas\, NV\,  89158 \, United States
CATEGORIES:Conference,FinancialForce,OpenAir
END:VEVENT
BEGIN:VEVENT
DTSTART;TZID=America/New_York:20161017T070000
DTEND;TZID=America/New_York:20161019T140000
DTSTAMP:20260423T174813
CREATED:20160630T214042Z
LAST-MODIFIED:20160630T214042Z
UID:10235-1476687600-1476885600@staging.topstepconsulting.com
SUMMARY:2016 Technology Services World
DESCRIPTION:As our industry continues to pivot to the technology-as-a-service (XaaS) models\, some clear patterns are emerging. One the of the most important observations is that success in the cloud requires new and unprecedented levels of alignment and collaboration across corporate functions.  \nThe implications of these changes are profound and far-reaching\, affecting virtually every functional area in tech companies. For leaders looking to win with XaaS offers\, the TSW Las Vegas conference will provide insights around how to plan and execute the critical interlocks required to succeed in the XaaS economy.
URL:http://staging.topstepconsulting.com/event/2016-technology-services-world-2/
LOCATION:ARIA Resort & Casino\, 3730 S. Las Vegas Blvd.\, Las Vegas\, NV\,  89158 \, United States
CATEGORIES:Conference,FinancialForce,OpenAir
END:VEVENT
BEGIN:VEVENT
DTSTART;VALUE=DATE:20160518
DTEND;VALUE=DATE:20160519
DTSTAMP:20260423T174813
CREATED:20160201T200707Z
LAST-MODIFIED:20160201T200707Z
UID:10812-1463529600-1463615999@staging.topstepconsulting.com
SUMMARY:FinancialForce Community Live - London
DESCRIPTION:May 18\, 2016\nLondon\, UK \nSave the date!  More details coming soon on this live gather of the FinancialForce Customer Community. TOP Step Consulting will be there and we look forward to seeing you there.
URL:http://staging.topstepconsulting.com/event/financialforce-community-live-london-2/
LOCATION:NV
CATEGORIES:Conference,FinancialForce
END:VEVENT
BEGIN:VEVENT
DTSTART;VALUE=DATE:20160518
DTEND;VALUE=DATE:20160519
DTSTAMP:20260423T174813
CREATED:20160201T200707Z
LAST-MODIFIED:20160201T200707Z
UID:9684-1463529600-1463615999@staging.topstepconsulting.com
SUMMARY:FinancialForce Community Live - London
DESCRIPTION:May 18\, 2016\nLondon\, UK \nSave the date!  More details coming soon on this live gather of the FinancialForce Customer Community. TOP Step Consulting will be there and we look forward to seeing you there.
URL:http://staging.topstepconsulting.com/event/financialforce-community-live-london/
LOCATION:NV
CATEGORIES:Conference,FinancialForce
END:VEVENT
BEGIN:VEVENT
DTSTART;TZID=America/New_York:20160516T070000
DTEND;TZID=America/New_York:20160519T140000
DTSTAMP:20260423T174813
CREATED:20160201T195957Z
LAST-MODIFIED:20160201T195957Z
UID:9682-1463382000-1463666400@staging.topstepconsulting.com
SUMMARY:SuiteWorld 2016
DESCRIPTION:May 16-19\, 2016\nSan Jose\, CA \nTOP Step is proud to be a Silver Sponsor again this year.  If you are a NetSuite user (or planning to be) it is an event you will not want to miss with over 200 breakout sessions\, networking\, and the Expo where you will find TOP Step Consulting.   \nLocation:\nSan Jose Convention Center\n150 West San Carlos Street\nSan Jose\, CA 95113\n \nLearn more
URL:http://staging.topstepconsulting.com/event/suiteworld-2016/
LOCATION:San Jose Convention Center\, 150 West San Carlos Street\, San Jose\, CA\,  95113  \, United States
CATEGORIES:Conference,OpenAir
END:VEVENT
BEGIN:VEVENT
DTSTART;TZID=America/New_York:20160516T070000
DTEND;TZID=America/New_York:20160519T140000
DTSTAMP:20260423T174813
CREATED:20160201T195957Z
LAST-MODIFIED:20160201T195957Z
UID:10810-1463382000-1463666400@staging.topstepconsulting.com
SUMMARY:SuiteWorld 2016
DESCRIPTION:May 16-19\, 2016\nSan Jose\, CA \nTOP Step is proud to be a Silver Sponsor again this year.  If you are a NetSuite user (or planning to be) it is an event you will not want to miss with over 200 breakout sessions\, networking\, and the Expo where you will find TOP Step Consulting.   \nLocation:\nSan Jose Convention Center\n150 West San Carlos Street\nSan Jose\, CA 95113\n \nLearn more
URL:http://staging.topstepconsulting.com/event/suiteworld-2016-2/
LOCATION:San Jose Convention Center\, 150 West San Carlos Street\, San Jose\, CA\,  95113  \, United States
CATEGORIES:Conference,OpenAir
END:VEVENT
BEGIN:VEVENT
DTSTART;TZID=America/Los_Angeles:20160510T080000
DTEND;TZID=America/Los_Angeles:20160511T170000
DTSTAMP:20260423T174813
CREATED:20160201T200414Z
LAST-MODIFIED:20160201T200414Z
UID:10811-1462867200-1462986000@staging.topstepconsulting.com
SUMMARY:FinancialForce Community Live - Las Vegas
DESCRIPTION:May 10-11\, 2016\nLas Vegas\, NV \nSave the date!  More details coming soon on this live gather of the FinancialForce Customer Community. TOP Step Consulting will be there and we look forward to seeing you there.
URL:http://staging.topstepconsulting.com/event/financialforce-community-live-las-vegas-2/
LOCATION:NV
CATEGORIES:Conference,FinancialForce
END:VEVENT
BEGIN:VEVENT
DTSTART;TZID=America/Los_Angeles:20160510T080000
DTEND;TZID=America/Los_Angeles:20160511T170000
DTSTAMP:20260423T174813
CREATED:20160201T200414Z
LAST-MODIFIED:20160201T200414Z
UID:9683-1462867200-1462986000@staging.topstepconsulting.com
SUMMARY:FinancialForce Community Live - Las Vegas
DESCRIPTION:May 10-11\, 2016\nLas Vegas\, NV \nSave the date!  More details coming soon on this live gather of the FinancialForce Customer Community. TOP Step Consulting will be there and we look forward to seeing you there.
URL:http://staging.topstepconsulting.com/event/financialforce-community-live-las-vegas/
LOCATION:NV
CATEGORIES:Conference,FinancialForce
END:VEVENT
BEGIN:VEVENT
DTSTART;TZID=America/Los_Angeles:20160502T070000
DTEND;TZID=America/Los_Angeles:20160504T150000
DTSTAMP:20260423T174813
CREATED:20160201T195434Z
LAST-MODIFIED:20160201T195434Z
UID:10809-1462172400-1462374000@staging.topstepconsulting.com
SUMMARY:Technology Services World
DESCRIPTION:May 2-4\, 2016\nSan Diego\, CA \nJoin us at the upcoming Technology Services World Conference.  The theme this spring is “Winning in the Cloud”. Learn how to grow and scale a profitable tech-as-a-service business.  TOP Step Consulting will be on the expo floor – we look forward to seeing you there!
URL:http://staging.topstepconsulting.com/event/technology-services-world-2/
LOCATION:NV
CATEGORIES:Conference
END:VEVENT
BEGIN:VEVENT
DTSTART;TZID=America/Los_Angeles:20160502T070000
DTEND;TZID=America/Los_Angeles:20160504T150000
DTSTAMP:20260423T174813
CREATED:20160201T195434Z
LAST-MODIFIED:20160201T195434Z
UID:9680-1462172400-1462374000@staging.topstepconsulting.com
SUMMARY:Technology Services World
DESCRIPTION:May 2-4\, 2016\nSan Diego\, CA \nJoin us at the upcoming Technology Services World Conference.  The theme this spring is “Winning in the Cloud”. Learn how to grow and scale a profitable tech-as-a-service business.  TOP Step Consulting will be on the expo floor – we look forward to seeing you there!
URL:http://staging.topstepconsulting.com/event/technology-services-world/
LOCATION:NV
CATEGORIES:Conference
END:VEVENT
BEGIN:VEVENT
DTSTART;TZID=America/New_York:20160428T080000
DTEND;TZID=America/New_York:20160428T180000
DTSTAMP:20260423T174813
CREATED:20160405T182043Z
LAST-MODIFIED:20160405T182043Z
UID:10822-1461830400-1461866400@staging.topstepconsulting.com
SUMMARY:Dreamforce World Tour - Washington\, DC
DESCRIPTION:Thursday\, April 28\, 2016\nLocation: Walter E. Washington Convention Center \nTOP Step will attend the Salesforce World Tour in Washington\, D.C. on April 28. This event will offer breakout sessions on best practices and tips on connecting with customers. The free event will include sessions\, keynotes\, and special guest speakers. For more information visit the Salesforce World Tour website.
URL:http://staging.topstepconsulting.com/event/dreamforce-world-tour-washington-dc-2/
LOCATION:Walter E. Washington Convention Center\, 801 Mount Vernon Place NW\, Washington\, DC\,  20001 \, United States
CATEGORIES:Conference,FinancialForce
END:VEVENT
BEGIN:VEVENT
DTSTART;TZID=America/New_York:20160428T080000
DTEND;TZID=America/New_York:20160428T180000
DTSTAMP:20260423T174813
CREATED:20160405T182043Z
LAST-MODIFIED:20160405T182043Z
UID:9860-1461830400-1461866400@staging.topstepconsulting.com
SUMMARY:Dreamforce World Tour - Washington\, DC
DESCRIPTION:Thursday\, April 28\, 2016\nLocation: Walter E. Washington Convention Center \nTOP Step will attend the Salesforce World Tour in Washington\, D.C. on April 28. This event will offer breakout sessions on best practices and tips on connecting with customers. The free event will include sessions\, keynotes\, and special guest speakers. For more information visit the Salesforce World Tour website.
URL:http://staging.topstepconsulting.com/event/dreamforce-world-tour-washington-dc/
LOCATION:Walter E. Washington Convention Center\, 801 Mount Vernon Place NW\, Washington\, DC\,  20001 \, United States
CATEGORIES:Conference,FinancialForce
END:VEVENT
BEGIN:VEVENT
DTSTART;VALUE=DATE:20151106
DTEND;VALUE=DATE:20151107
DTSTAMP:20260423T174813
CREATED:20151027T161354Z
LAST-MODIFIED:20151027T161354Z
UID:10791-1446768000-1446854399@staging.topstepconsulting.com
SUMMARY:The Consulting Summit
DESCRIPTION:Consulting 2020 – Focus on the Firm of the Future\n\nWhat’s the future of consulting? \nWhat will the profession look like in five years? \nWhat’s the firm of the future look like? \nHow will client delivery change?\nWhat will a successful firm look like in 2020? \nAnd\, how will emerging technologies continue to disrupt consulting? \n\n \nBig questions\, for sure. But that’s what the Consulting Summit has always set out to do—answer the tough questions and big challenges facing the profession. This year’s Consulting Summit will focus in on the future by taking a good hard look at where we are today. The day’s agenda will provide plenty of proprietary research and analysis from Consulting magazine’s sister company—Kennedy Consulting Research & Advisory (KCRA). Analysts will be on hand to provide market and business intelligence forecasts on consulting services worldwide as part of KCRA’s annual State of the Profession\, with data culled from its 2015 Global Consulting Market Index. In addition\, the Summit will also offer a keynote address from The Boston Consulting Group’s Ross Love\, Senior Partner & Managing Director and Debbie Lovich\, Senior Advisor\, Leader of BCG’s Leadership and Talent Enablement Center in North America\, discussing the evolution necessary for consultancies to succeed in the future. \nIn addition\, the Summit will offer a diversity of thought and innovative ideas about the road ahead via panel discussions and breakouts sessions focused on the challenges of today and the solutions of tomorrow. Finally\, the Summit is the one of the consulting profession’s premier networking events. Join consulting colleagues\, co-workers and clients at this one-day event that promises to deliver a clear 2020 vision for consulting.
URL:http://staging.topstepconsulting.com/event/the-consulting-summit-2/
LOCATION:The University Club\, One West 54th Street\, New York\, NY\,  10019 \, United States
CATEGORIES:Conference,FinancialForce,OpenAir
END:VEVENT
BEGIN:VEVENT
DTSTART;VALUE=DATE:20151106
DTEND;VALUE=DATE:20151107
DTSTAMP:20260423T174813
CREATED:20151027T161354Z
LAST-MODIFIED:20151027T161354Z
UID:9455-1446768000-1446854399@staging.topstepconsulting.com
SUMMARY:The Consulting Summit
DESCRIPTION:Consulting 2020 – Focus on the Firm of the Future\n\nWhat’s the future of consulting? \nWhat will the profession look like in five years? \nWhat’s the firm of the future look like? \nHow will client delivery change?\nWhat will a successful firm look like in 2020? \nAnd\, how will emerging technologies continue to disrupt consulting? \n\n \nBig questions\, for sure. But that’s what the Consulting Summit has always set out to do—answer the tough questions and big challenges facing the profession. This year’s Consulting Summit will focus in on the future by taking a good hard look at where we are today. The day’s agenda will provide plenty of proprietary research and analysis from Consulting magazine’s sister company—Kennedy Consulting Research & Advisory (KCRA). Analysts will be on hand to provide market and business intelligence forecasts on consulting services worldwide as part of KCRA’s annual State of the Profession\, with data culled from its 2015 Global Consulting Market Index. In addition\, the Summit will also offer a keynote address from The Boston Consulting Group’s Ross Love\, Senior Partner & Managing Director and Debbie Lovich\, Senior Advisor\, Leader of BCG’s Leadership and Talent Enablement Center in North America\, discussing the evolution necessary for consultancies to succeed in the future. \nIn addition\, the Summit will offer a diversity of thought and innovative ideas about the road ahead via panel discussions and breakouts sessions focused on the challenges of today and the solutions of tomorrow. Finally\, the Summit is the one of the consulting profession’s premier networking events. Join consulting colleagues\, co-workers and clients at this one-day event that promises to deliver a clear 2020 vision for consulting.
URL:http://staging.topstepconsulting.com/event/the-consulting-summit/
LOCATION:The University Club\, One West 54th Street\, New York\, NY\,  10019 \, United States
CATEGORIES:Conference,FinancialForce,OpenAir
END:VEVENT
BEGIN:VEVENT
DTSTART;VALUE=DATE:20151019
DTEND;VALUE=DATE:20151022
DTSTAMP:20260423T174813
CREATED:20150724T143022Z
LAST-MODIFIED:20150724T143022Z
UID:10789-1445212800-1445471999@staging.topstepconsulting.com
SUMMARY:TSW Conference
DESCRIPTION:Date: October 19-21\, 2015\nLocation: Las Vegas\, NV \nTOP Step Consulting is an exhibiting sponsor at the TSW Conference this year in Las Vegas.  Join us for three days of thought-provoking sessions from industry leaders.  For more information\, check out the conference website. \nTSW Conference 2015
URL:http://staging.topstepconsulting.com/event/tsw-conference-2/
LOCATION:NV
CATEGORIES:Conference
END:VEVENT
BEGIN:VEVENT
DTSTART;VALUE=DATE:20151019
DTEND;VALUE=DATE:20151022
DTSTAMP:20260423T174813
CREATED:20150724T143022Z
LAST-MODIFIED:20150724T143022Z
UID:9209-1445212800-1445471999@staging.topstepconsulting.com
SUMMARY:TSW Conference
DESCRIPTION:Date: October 19-21\, 2015\nLocation: Las Vegas\, NV \nTOP Step Consulting is an exhibiting sponsor at the TSW Conference this year in Las Vegas.  Join us for three days of thought-provoking sessions from industry leaders.  For more information\, check out the conference website. \nTSW Conference 2015
URL:http://staging.topstepconsulting.com/event/tsw-conference/
LOCATION:NV
CATEGORIES:Conference
END:VEVENT
BEGIN:VEVENT
DTSTART;VALUE=DATE:20150915
DTEND;VALUE=DATE:20150919
DTSTAMP:20260423T174813
CREATED:20150724T142917Z
LAST-MODIFIED:20150724T142917Z
UID:10788-1442275200-1442620799@staging.topstepconsulting.com
SUMMARY:Dreamforce 2015
DESCRIPTION:September 15-18\, 2015\nSan Francisco\, CA \nLearn More
URL:http://staging.topstepconsulting.com/event/dreamforce-2015-2/
LOCATION:Unnamed Venue\, San Francisco\, CA\, United States
CATEGORIES:Conference,FinancialForce
END:VEVENT
BEGIN:VEVENT
DTSTART;VALUE=DATE:20150915
DTEND;VALUE=DATE:20150919
DTSTAMP:20260423T174813
CREATED:20150724T142917Z
LAST-MODIFIED:20150724T142917Z
UID:9208-1442275200-1442620799@staging.topstepconsulting.com
SUMMARY:Dreamforce 2015
DESCRIPTION:September 15-18\, 2015\nSan Francisco\, CA \nLearn More
URL:http://staging.topstepconsulting.com/event/dreamforce-2015/
LOCATION:Unnamed Venue\, San Francisco\, CA\, United States
CATEGORIES:Conference,FinancialForce
END:VEVENT
BEGIN:VEVENT
DTSTART;VALUE=DATE:20150914
DTEND;VALUE=DATE:20150915
DTSTAMP:20260423T174813
CREATED:20150724T142804Z
LAST-MODIFIED:20150724T142804Z
UID:10787-1442188800-1442275199@staging.topstepconsulting.com
SUMMARY:FinancialForce Community Day 2015
DESCRIPTION:Monday\, September 14\, 2015\nSan Francisco\, CA \nTOP Step Consulting will be a sponsor at this year’s FinancialForce Community Day. \nLearn More
URL:http://staging.topstepconsulting.com/event/financialforce-community-day-2015-2/
LOCATION:Unnamed Venue\, San Francisco\, CA\, United States
CATEGORIES:Conference,FinancialForce
END:VEVENT
BEGIN:VEVENT
DTSTART;VALUE=DATE:20150914
DTEND;VALUE=DATE:20150915
DTSTAMP:20260423T174813
CREATED:20150724T142804Z
LAST-MODIFIED:20150724T142804Z
UID:9207-1442188800-1442275199@staging.topstepconsulting.com
SUMMARY:FinancialForce Community Day 2015
DESCRIPTION:Monday\, September 14\, 2015\nSan Francisco\, CA \nTOP Step Consulting will be a sponsor at this year’s FinancialForce Community Day. \nLearn More
URL:http://staging.topstepconsulting.com/event/financialforce-community-day-2015/
LOCATION:Unnamed Venue\, San Francisco\, CA\, United States
CATEGORIES:Conference,FinancialForce
END:VEVENT
BEGIN:VEVENT
DTSTART;TZID=America/New_York:20150911T083000
DTEND;TZID=America/New_York:20150911T113000
DTSTAMP:20260423T174813
CREATED:20150825T155845Z
LAST-MODIFIED:20150825T155845Z
UID:10790-1441960200-1441971000@staging.topstepconsulting.com
SUMMARY:NetSuite Boston PS Executive Breakfast
DESCRIPTION:Join NetSuite in Boston on September 11 for an invitation-only executive breakfast on the keys to success for the “best-of-the-best” in professional services. Find out how top organizations outperform their peers in profitability\, per-project revenue\, client satisfaction and more. \nTopic:\nChart Your Course to Professional Services Excellence\n\nDate:\nFriday\, September 11\, 2015\n\nTime:\n8:30–11:30 a.m.\n*Breakfast served at 8:00 a.m.\, lunch served at 11:30 a.m.\n\nLocation:\nThe Four Seasons Boston\n2nd Floor\n200 Boylston St.\nBoston\, MA 02116\n\nAt this complimentary breakfast briefing\, you’ll take away best practices to implement in your organization\, while networking with your peers in the services and technology industries.\n\nREGISTER NOW
URL:http://staging.topstepconsulting.com/event/netsuite-boston-ps-executive-breakfast-2/
LOCATION:The Four Seasons Boston\, 200 Boylston St.\, Boston\, MA\,  02116 \, United States
CATEGORIES:Conference,OpenAir,OpenAir User Group
END:VEVENT
BEGIN:VEVENT
DTSTART;TZID=America/New_York:20150911T083000
DTEND;TZID=America/New_York:20150911T113000
DTSTAMP:20260423T174813
CREATED:20150825T155845Z
LAST-MODIFIED:20150825T155845Z
UID:9320-1441960200-1441971000@staging.topstepconsulting.com
SUMMARY:NetSuite Boston PS Executive Breakfast
DESCRIPTION:Join NetSuite in Boston on September 11 for an invitation-only executive breakfast on the keys to success for the “best-of-the-best” in professional services. Find out how top organizations outperform their peers in profitability\, per-project revenue\, client satisfaction and more. \nTopic:\nChart Your Course to Professional Services Excellence\n\nDate:\nFriday\, September 11\, 2015\n\nTime:\n8:30–11:30 a.m.\n*Breakfast served at 8:00 a.m.\, lunch served at 11:30 a.m.\n\nLocation:\nThe Four Seasons Boston\n2nd Floor\n200 Boylston St.\nBoston\, MA 02116\n\nAt this complimentary breakfast briefing\, you’ll take away best practices to implement in your organization\, while networking with your peers in the services and technology industries.\n\nREGISTER NOW
URL:http://staging.topstepconsulting.com/event/netsuite-boston-ps-executive-breakfast/
LOCATION:The Four Seasons Boston\, 200 Boylston St.\, Boston\, MA\,  02116 \, United States
CATEGORIES:Conference,OpenAir,OpenAir User Group
END:VEVENT
END:VCALENDAR